BEGIN:VCALENDAR
VERSION:2.0
PRODID:-//Blog knihkupectví Luxor - ECPv6.15.20//NONSGML v1.0//EN
CALSCALE:GREGORIAN
METHOD:PUBLISH
X-WR-CALNAME:Blog knihkupectví Luxor
X-ORIGINAL-URL:https://www.luxor.cz/blog
X-WR-CALDESC:Akce na Blog knihkupectví Luxor
REFRESH-INTERVAL;VALUE=DURATION:PT1H
X-Robots-Tag:noindex
X-PUBLISHED-TTL:PT1H
BEGIN:VTIMEZONE
TZID:Europe/Prague
BEGIN:DAYLIGHT
TZOFFSETFROM:+0100
TZOFFSETTO:+0200
TZNAME:CEST
DTSTART:20170326T010000
END:DAYLIGHT
BEGIN:STANDARD
TZOFFSETFROM:+0200
TZOFFSETTO:+0100
TZNAME:CET
DTSTART:20171029T010000
END:STANDARD
BEGIN:DAYLIGHT
TZOFFSETFROM:+0100
TZOFFSETTO:+0200
TZNAME:CEST
DTSTART:20180325T010000
END:DAYLIGHT
BEGIN:STANDARD
TZOFFSETFROM:+0200
TZOFFSETTO:+0100
TZNAME:CET
DTSTART:20181028T010000
END:STANDARD
BEGIN:DAYLIGHT
TZOFFSETFROM:+0100
TZOFFSETTO:+0200
TZNAME:CEST
DTSTART:20190331T010000
END:DAYLIGHT
BEGIN:STANDARD
TZOFFSETFROM:+0200
TZOFFSETTO:+0100
TZNAME:CET
DTSTART:20191027T010000
END:STANDARD
END:VTIMEZONE
BEGIN:VEVENT
DTSTART;TZID=Europe/Prague:20180222T170000
DTEND;TZID=Europe/Prague:20180222T170000
DTSTAMP:20260423T181004
CREATED:20190831T152035Z
LAST-MODIFIED:20190831T152036Z
UID:1668-1519318800-1519318800@www.luxor.cz
SUMMARY:Křest knihy O život princezny Jana Bauera
DESCRIPTION:Jan Bauer\, autor více než 150 titulů (jako třeba Mrtvola v brnění nebo Klášterem obchází ďábel) přichází s novou knihou o případech královského soudce. Melichar se doma na roupovské tvrzi opět zmítá mezi dvěma ženami – svou manželkou Anežkou a její komornou Kordulou. Z problémů\, které toto utajené dvojženství vyvolává\, ho vytrhne pozvání krále Jindřicha Korutanského na Pražský hrad. Dozvídá se\, že královu švagrovou šestnáctiletou Elišku Přemyslovnu se v ženském klášteře u svatého Jiří kdosi pokusil otrávit. Panovník na něj naléhá\, aby co nejdříve odhalil zákeřného traviče. V podezření se ocitá abatyše Ludmila a především bývalá královna a Eliščina nevlastní matka Rejčka. Jenže Melichar ke svému překvapení zjišťuje\, že všechno se má poněkud jinak a že se sám nejspíše ocitl v nebezpečí nejen ztráty svého soudcovského úřadu\, ale i života.
URL:https://www.luxor.cz/blog/akce/krest-knihy-o-zivot-princezny-jana-bauera--1068/
LOCATION:Palác knih Luxor\, Václavské náměstí 820/41\, Praha 1\, 11000\, Česká republika
ORGANIZER;CN="Luxor":MAILTO:info@luxor.cz
END:VEVENT
END:VCALENDAR