BEGIN:VCALENDAR
VERSION:2.0
PRODID:-//Blog knihkupectví Luxor - ECPv6.15.20//NONSGML v1.0//EN
CALSCALE:GREGORIAN
METHOD:PUBLISH
X-WR-CALNAME:Blog knihkupectví Luxor
X-ORIGINAL-URL:https://www.luxor.cz/blog
X-WR-CALDESC:Akce na Blog knihkupectví Luxor
REFRESH-INTERVAL;VALUE=DURATION:PT1H
X-Robots-Tag:noindex
X-PUBLISHED-TTL:PT1H
BEGIN:VTIMEZONE
TZID:Europe/Prague
BEGIN:DAYLIGHT
TZOFFSETFROM:+0100
TZOFFSETTO:+0200
TZNAME:CEST
DTSTART:20170326T010000
END:DAYLIGHT
BEGIN:STANDARD
TZOFFSETFROM:+0200
TZOFFSETTO:+0100
TZNAME:CET
DTSTART:20171029T010000
END:STANDARD
BEGIN:DAYLIGHT
TZOFFSETFROM:+0100
TZOFFSETTO:+0200
TZNAME:CEST
DTSTART:20180325T010000
END:DAYLIGHT
BEGIN:STANDARD
TZOFFSETFROM:+0200
TZOFFSETTO:+0100
TZNAME:CET
DTSTART:20181028T010000
END:STANDARD
BEGIN:DAYLIGHT
TZOFFSETFROM:+0100
TZOFFSETTO:+0200
TZNAME:CEST
DTSTART:20190331T010000
END:DAYLIGHT
BEGIN:STANDARD
TZOFFSETFROM:+0200
TZOFFSETTO:+0100
TZNAME:CET
DTSTART:20191027T010000
END:STANDARD
END:VTIMEZONE
BEGIN:VEVENT
DTSTART;TZID=Europe/Prague:20180221T170000
DTEND;TZID=Europe/Prague:20180221T170000
DTSTAMP:20260423T181916
CREATED:20190831T152027Z
LAST-MODIFIED:20190831T152029Z
UID:1647-1519232400-1519232400@www.luxor.cz
SUMMARY:Křest knihy Jany Sedlmajerové Detektivka mého života
DESCRIPTION:Položili jste si někdy otázku\, proč se vámdějí věci v životě tak\, jak se dějí? Během života na nás působí obrovské\nmnožství vjemů. Ovlivňuje nás celospolečenské dění\, politická situace\,\nsetkávání s ostatními lidmi. Otázkou je\, jak jsme schopni a ochotni tomu\nporozumět. \nDokážeme si sami udržet svoji vnitřní svobodu\ntak\, abychom vůči sobě nepáchali nějaký zločin? \nV rukou držíte detektivku života Jany\nSedlmajerové\, ženy\, která ve své profesní dráze dokázala kombinovat činnosti\,\nkteré jí dělaly radost a ve výsledku to bylo vždy znát. Byla  to profese výtvarnice\, modelky a herečky\,\nkteré ji dovedly až k dnešnímu tvoření obrazů s pozitivní energií\, seminářům a\nterápiím. \nJako detektiv jde po stopách svého života a postupně\nvám logicky odkrývá jednotlivé indicie\, které ji zavedly k pochopení\ncelistvosti života jako takového\, tedy jak najít sama sebe. Nenajdete zde\npodezřelé\, jen osobnosti\, které se v detektivce v danou chvíli měly vyskytovat\,\naby mohlo dojít k vzájemnému učení.
URL:https://www.luxor.cz/blog/akce/krest-knihy-jany-sedlmajerove-detektivka-meho-zivota--1055/
LOCATION:Palác knih Luxor\, Václavské náměstí 820/41\, Praha 1\, 11000\, Česká republika
ORGANIZER;CN="Luxor":MAILTO:info@luxor.cz
END:VEVENT
END:VCALENDAR