BEGIN:VCALENDAR
VERSION:2.0
PRODID:-//Blog knihkupectví Luxor - ECPv6.15.20//NONSGML v1.0//EN
CALSCALE:GREGORIAN
METHOD:PUBLISH
X-WR-CALNAME:Blog knihkupectví Luxor
X-ORIGINAL-URL:https://www.luxor.cz/blog
X-WR-CALDESC:Akce na Blog knihkupectví Luxor
REFRESH-INTERVAL;VALUE=DURATION:PT1H
X-Robots-Tag:noindex
X-PUBLISHED-TTL:PT1H
BEGIN:VTIMEZONE
TZID:Europe/Prague
BEGIN:DAYLIGHT
TZOFFSETFROM:+0100
TZOFFSETTO:+0200
TZNAME:CEST
DTSTART:20170326T010000
END:DAYLIGHT
BEGIN:STANDARD
TZOFFSETFROM:+0200
TZOFFSETTO:+0100
TZNAME:CET
DTSTART:20171029T010000
END:STANDARD
BEGIN:DAYLIGHT
TZOFFSETFROM:+0100
TZOFFSETTO:+0200
TZNAME:CEST
DTSTART:20180325T010000
END:DAYLIGHT
BEGIN:STANDARD
TZOFFSETFROM:+0200
TZOFFSETTO:+0100
TZNAME:CET
DTSTART:20181028T010000
END:STANDARD
BEGIN:DAYLIGHT
TZOFFSETFROM:+0100
TZOFFSETTO:+0200
TZNAME:CEST
DTSTART:20190331T010000
END:DAYLIGHT
BEGIN:STANDARD
TZOFFSETFROM:+0200
TZOFFSETTO:+0100
TZNAME:CET
DTSTART:20191027T010000
END:STANDARD
END:VTIMEZONE
BEGIN:VEVENT
DTSTART;TZID=Europe/Prague:20180215T180000
DTEND;TZID=Europe/Prague:20180215T180000
DTSTAMP:20260423T181041
CREATED:20190831T152031Z
LAST-MODIFIED:20190831T152033Z
UID:1659-1518717600-1518717600@www.luxor.cz
SUMMARY:Čtení z knihy Cesta svatým Vít-ahem s Lelou Geislerovou
DESCRIPTION:Příběh Cesty svatým Vít-ahem je určen dětem\, ale i vnímavým dospělým\, kteří pochopili\, jaké místo má v životě lidském imaginace. Dva bratři (Amos a Vilém) díky výtahu v jejich domě\, který se ukáže být kouzelný\, cestují do fantastických míst. Chlapci výtah pojmenují svatý Vít\, aniž by tušili\, co tím způsobí. Mohlo to být celé jen úžasné dobrodružství\, kdyby se všechno nečekaně nezkomplikovalo.
URL:https://www.luxor.cz/blog/akce/cteni-z-knihy-cesta-svatym-vit-ahem-s-lelou-geislerovou--1063/
LOCATION:Palác knih Luxor\, Václavské náměstí 820/41\, Praha 1\, 11000\, Česká republika
ORGANIZER;CN="Luxor":MAILTO:info@luxor.cz
END:VEVENT
END:VCALENDAR