BEGIN:VCALENDAR
VERSION:2.0
PRODID:-//Blog knihkupectví Luxor - ECPv6.15.20//NONSGML v1.0//EN
CALSCALE:GREGORIAN
METHOD:PUBLISH
X-WR-CALNAME:Blog knihkupectví Luxor
X-ORIGINAL-URL:https://www.luxor.cz/blog
X-WR-CALDESC:Akce na Blog knihkupectví Luxor
REFRESH-INTERVAL;VALUE=DURATION:PT1H
X-Robots-Tag:noindex
X-PUBLISHED-TTL:PT1H
BEGIN:VTIMEZONE
TZID:Europe/Prague
BEGIN:DAYLIGHT
TZOFFSETFROM:+0100
TZOFFSETTO:+0200
TZNAME:CEST
DTSTART:20170326T010000
END:DAYLIGHT
BEGIN:STANDARD
TZOFFSETFROM:+0200
TZOFFSETTO:+0100
TZNAME:CET
DTSTART:20171029T010000
END:STANDARD
BEGIN:DAYLIGHT
TZOFFSETFROM:+0100
TZOFFSETTO:+0200
TZNAME:CEST
DTSTART:20180325T010000
END:DAYLIGHT
BEGIN:STANDARD
TZOFFSETFROM:+0200
TZOFFSETTO:+0100
TZNAME:CET
DTSTART:20181028T010000
END:STANDARD
BEGIN:DAYLIGHT
TZOFFSETFROM:+0100
TZOFFSETTO:+0200
TZNAME:CEST
DTSTART:20190331T010000
END:DAYLIGHT
BEGIN:STANDARD
TZOFFSETFROM:+0200
TZOFFSETTO:+0100
TZNAME:CET
DTSTART:20191027T010000
END:STANDARD
END:VTIMEZONE
BEGIN:VEVENT
DTSTART;TZID=Europe/Prague:20180214T170000
DTEND;TZID=Europe/Prague:20180214T170000
DTSTAMP:20260423T181004
CREATED:20190831T152035Z
LAST-MODIFIED:20190831T152036Z
UID:1667-1518627600-1518627600@www.luxor.cz
SUMMARY:Křest knihy Hvězdy na čtyřech kolech
DESCRIPTION:Jedná se o unikátní možnost získat během několika minut tolik vzácných podpisů. Těšit se můžete například na továrního jezdce ŠkodyMotorsport a čerstvého vítěze Rallye Monte Carlo Jana Kopeckého. Nebo na\núřadujícího evropského šampiona tahačů Adama Lacka\, účastníka špičkového\nformulového seriálu GP2 Series Josefa Krále\, soutěžáckou legendu Václava Pecha\,\nvrchařské matadory Petra a Lukáše Vojáčkovy či držitele Evropského poháru\ncestovních vozů Michala Matějovského. \n \n \nKniha Hvězdy na čtyřech kolech přináší medailonky dvaceti předních českých automobilových závodníků\, kteří dosáhli významných úspěchů na domácích i mezinárodních tratích. Jejich prostřednictvím se čtenář seznámí se strhující atmosférou i zákulisím velkých závodů\, stejně jako s dramaty\, která prožívají jejich aktéři. Autorem je zkušený motoristický novinář Petr Dufek.
URL:https://www.luxor.cz/blog/akce/krest-knihy-hvezdy-na-ctyrech-kolech--1067/
LOCATION:Palác knih Luxor\, Václavské náměstí 820/41\, Praha 1\, 11000\, Česká republika
ORGANIZER;CN="Luxor":MAILTO:info@luxor.cz
END:VEVENT
END:VCALENDAR