BEGIN:VCALENDAR
VERSION:2.0
PRODID:-//Blog knihkupectví Luxor - ECPv6.15.20//NONSGML v1.0//EN
CALSCALE:GREGORIAN
METHOD:PUBLISH
X-WR-CALNAME:Blog knihkupectví Luxor
X-ORIGINAL-URL:https://www.luxor.cz/blog
X-WR-CALDESC:Akce na Blog knihkupectví Luxor
REFRESH-INTERVAL;VALUE=DURATION:PT1H
X-Robots-Tag:noindex
X-PUBLISHED-TTL:PT1H
BEGIN:VTIMEZONE
TZID:Europe/Prague
BEGIN:DAYLIGHT
TZOFFSETFROM:+0100
TZOFFSETTO:+0200
TZNAME:CEST
DTSTART:20170326T010000
END:DAYLIGHT
BEGIN:STANDARD
TZOFFSETFROM:+0200
TZOFFSETTO:+0100
TZNAME:CET
DTSTART:20171029T010000
END:STANDARD
BEGIN:DAYLIGHT
TZOFFSETFROM:+0100
TZOFFSETTO:+0200
TZNAME:CEST
DTSTART:20180325T010000
END:DAYLIGHT
BEGIN:STANDARD
TZOFFSETFROM:+0200
TZOFFSETTO:+0100
TZNAME:CET
DTSTART:20181028T010000
END:STANDARD
BEGIN:DAYLIGHT
TZOFFSETFROM:+0100
TZOFFSETTO:+0200
TZNAME:CEST
DTSTART:20190331T010000
END:DAYLIGHT
BEGIN:STANDARD
TZOFFSETFROM:+0200
TZOFFSETTO:+0100
TZNAME:CET
DTSTART:20191027T010000
END:STANDARD
END:VTIMEZONE
BEGIN:VEVENT
DTSTART;TZID=Europe/Prague:20180206T170000
DTEND;TZID=Europe/Prague:20180206T170000
DTSTAMP:20260423T181004
CREATED:20190831T152028Z
LAST-MODIFIED:20190831T152029Z
UID:1651-1517936400-1517936400@www.luxor.cz
SUMMARY:Ivan Mládek pokřtí příběhy o pavoučcích Fukovi a Pukovi
DESCRIPTION:Dobrodružství dvou pavoučků \nVe staré stodole žijí dva pavoučci. Spřátelí se a zažijí spolu mnoho dobrodružství. Jsou velmi vynalézaví a podnikají výlety\, při kterých se seznámí s ostatními zvířátky z lesa\, od rybníka\, z louky i ze dvora. Někdy se ocitnou v ošemetné situaci\, ale díky dobrým přátelům to vždy nakonec dobře dopadne. \nFuk a Puk ve městě \nVe staré stodole na statku žijí dva pavoučci Fuk a Puk. Fuk je nebojácný a vynalézavý\, Puk je trochu bázlivý\, ale chce se ve všem Fukovi vyrovnat. Rádi si spolu hrají a vymýšlejí různá dobrodružství. A jednou je napadne\, že se spolu vydají do města. Podívají se do cirkusu\, zúčastní se nádherného plesu\, navštíví lunapark\, a protože jsou to zvědaví neposedové\, často jim hrozí nebezpečí. Ale díky své vynalézavosti si vždy nějak poradí. Mají hodně kamarádů mezi broučky i zvířátky\, kteří jsou ochotni pokaždé přispěchat na pomoc. Ale víc už neprozradíme. Co všechno tam zažijí\, o tom vypráví další knížka o příhodách dvou neposedných pavoučků. \n \nIlustroval Josef Quis.
URL:https://www.luxor.cz/blog/akce/ivan-mladek-pokrti-pribehy-o-pavouccich-fukovi-a-pukovi--1059/
LOCATION:Palác knih Luxor\, Václavské náměstí 820/41\, Praha 1\, 11000\, Česká republika
ORGANIZER;CN="Luxor":MAILTO:info@luxor.cz
END:VEVENT
END:VCALENDAR