BEGIN:VCALENDAR
VERSION:2.0
PRODID:-//Blog knihkupectví Luxor - ECPv6.15.20//NONSGML v1.0//EN
CALSCALE:GREGORIAN
METHOD:PUBLISH
X-ORIGINAL-URL:https://www.luxor.cz/blog
X-WR-CALDESC:Akce na Blog knihkupectví Luxor
REFRESH-INTERVAL;VALUE=DURATION:PT1H
X-Robots-Tag:noindex
X-PUBLISHED-TTL:PT1H
BEGIN:VTIMEZONE
TZID:Europe/Prague
BEGIN:DAYLIGHT
TZOFFSETFROM:+0100
TZOFFSETTO:+0200
TZNAME:CEST
DTSTART:20160327T010000
END:DAYLIGHT
BEGIN:STANDARD
TZOFFSETFROM:+0200
TZOFFSETTO:+0100
TZNAME:CET
DTSTART:20161030T010000
END:STANDARD
BEGIN:DAYLIGHT
TZOFFSETFROM:+0100
TZOFFSETTO:+0200
TZNAME:CEST
DTSTART:20170326T010000
END:DAYLIGHT
BEGIN:STANDARD
TZOFFSETFROM:+0200
TZOFFSETTO:+0100
TZNAME:CET
DTSTART:20171029T010000
END:STANDARD
BEGIN:DAYLIGHT
TZOFFSETFROM:+0100
TZOFFSETTO:+0200
TZNAME:CEST
DTSTART:20180325T010000
END:DAYLIGHT
BEGIN:STANDARD
TZOFFSETFROM:+0200
TZOFFSETTO:+0100
TZNAME:CET
DTSTART:20181028T010000
END:STANDARD
END:VTIMEZONE
BEGIN:VEVENT
DTSTART;TZID=Europe/Prague:20171130T110100
DTEND;TZID=Europe/Prague:20171130T110100
DTSTAMP:20260423T221644
CREATED:20190831T151921Z
LAST-MODIFIED:20190831T151922Z
UID:1466-1512039660-1512039660@www.luxor.cz
SUMMARY:Jussi Adler-Olsen s 50% slevou
DESCRIPTION:K příležitosti vydání nové knihy Jussi Adler-Olsena Selfies: od 1. září do 30. listopadu u nás naleznete všechny ostatní tituly (v pevné vazbě) severského spisovatele Jussiho Adlera-Olsena s jedinečnou slevou 50 %. Neváhejte a doplňte si svou sbírku.  \n \n\nSlevu nelze kombinovat s dalšími slevami\nAkce platí také v e-shopu\nAkce se koná do 30. listopadu nebo do vyprodání zásob\nNeplatí na novinku Selfies
URL:https://www.luxor.cz/blog/akce/jussi-adler-olsen-s-50-slevou--958/
ORGANIZER;CN="Luxor":MAILTO:info@luxor.cz
END:VEVENT
BEGIN:VEVENT
DTSTART;TZID=Europe/Prague:20171130T170000
DTEND;TZID=Europe/Prague:20171130T170000
DTSTAMP:20260423T221644
CREATED:20190831T152006Z
LAST-MODIFIED:20190831T152007Z
UID:1588-1512061200-1512061200@www.luxor.cz
SUMMARY:Křest a autogramiáda knihy Jak jsem přežil Ironlove Šárky Zmátlíkové.
DESCRIPTION:
URL:https://www.luxor.cz/blog/akce/krest-a-autogramiada-knihy-iron-love-sarky-zmatlikove--1022/
LOCATION:Palác knih Luxor\, Václavské náměstí 820/41\, Praha 1\, 11000\, Česká republika
ORGANIZER;CN="Luxor":MAILTO:info@luxor.cz
END:VEVENT
END:VCALENDAR