BEGIN:VCALENDAR
VERSION:2.0
PRODID:-//Blog knihkupectví Luxor - ECPv6.15.20//NONSGML v1.0//EN
CALSCALE:GREGORIAN
METHOD:PUBLISH
X-ORIGINAL-URL:https://www.luxor.cz/blog
X-WR-CALDESC:Akce na Blog knihkupectví Luxor
REFRESH-INTERVAL;VALUE=DURATION:PT1H
X-Robots-Tag:noindex
X-PUBLISHED-TTL:PT1H
BEGIN:VTIMEZONE
TZID:Europe/Prague
BEGIN:DAYLIGHT
TZOFFSETFROM:+0100
TZOFFSETTO:+0200
TZNAME:CEST
DTSTART:20160327T010000
END:DAYLIGHT
BEGIN:STANDARD
TZOFFSETFROM:+0200
TZOFFSETTO:+0100
TZNAME:CET
DTSTART:20161030T010000
END:STANDARD
BEGIN:DAYLIGHT
TZOFFSETFROM:+0100
TZOFFSETTO:+0200
TZNAME:CEST
DTSTART:20170326T010000
END:DAYLIGHT
BEGIN:STANDARD
TZOFFSETFROM:+0200
TZOFFSETTO:+0100
TZNAME:CET
DTSTART:20171029T010000
END:STANDARD
BEGIN:DAYLIGHT
TZOFFSETFROM:+0100
TZOFFSETTO:+0200
TZNAME:CEST
DTSTART:20180325T010000
END:DAYLIGHT
BEGIN:STANDARD
TZOFFSETFROM:+0200
TZOFFSETTO:+0100
TZNAME:CET
DTSTART:20181028T010000
END:STANDARD
END:VTIMEZONE
BEGIN:VEVENT
DTSTART;TZID=Europe/Prague:20171129T160000
DTEND;TZID=Europe/Prague:20171129T160000
DTSTAMP:20260423T205426
CREATED:20190831T152013Z
LAST-MODIFIED:20190831T152014Z
UID:1607-1511971200-1511971200@www.luxor.cz
SUMMARY:PLZEŇ: Autogramiáda Petra Rychlého ke knize Recepty z pořadu Rady ptáka Loskutáky
DESCRIPTION:
URL:https://www.luxor.cz/blog/akce/plzen-autogramiada-petra-rychleho-ke-knize-recepty-z-poradu-rady-ptaka-loskutaky--1031/
LOCATION:Knihkupectví Plaza\, OC Plaza\, Plzeň\, 30100\, Česká republika
ORGANIZER;CN="Luxor":MAILTO:info@luxor.cz
END:VEVENT
BEGIN:VEVENT
DTSTART;TZID=Europe/Prague:20171129T170000
DTEND;TZID=Europe/Prague:20171129T170000
DTSTAMP:20260423T205426
CREATED:20190831T152006Z
LAST-MODIFIED:20190831T152007Z
UID:1587-1511974800-1511974800@www.luxor.cz
SUMMARY:Jakub Kohák pokřtí dětskou knihu Dominika Landsmana Lapuťák a kapitán Adorabl
DESCRIPTION:Dobrodružná knížka plná humoru pro děti a jejich rodiče. Čeněk\, obyčejný malý kluk\, jede s rodiči k moři. Setká se tam s kapitánem Adorablem\, lovcem odměn a zvláštních tvorů\, který pluje ve své lodi po celém Sedmimoří\, pohádkovém světě plném ostrovů. Je zrovna na stopě Lapuťáka\, nejvzácnějšího tvora Sedmimoří. Kapitán vezme Čeňka s sebou\, ale pravidelně se vracejí zpátky do našeho světa\, aby rodiče nepojali podezření\, kam se jim synek ztrácí. Čeněk zjistí\, že nejedno moudro\, které pochytil od mírně potrhlých rodičů\, se dá překvapivě dobře aplikovat i na problémy\, se kterými se setká v dobrodružném Sedmimoří. Také se ukáže\, že Lapuťák má jistou zázračnou vlastnost\, kvůli které ho nahání polovina kouzelné říše\, a Čeněk s kapitánem musí zabránit tomu\, aby padl do špatných rukou.
URL:https://www.luxor.cz/blog/akce/dominik-landsman-pokrti-detskou-knihu-laputak-a-kapitan-adorabl--1021/
LOCATION:Palác knih Luxor\, Václavské náměstí 820/41\, Praha 1\, 11000\, Česká republika
ORGANIZER;CN="Luxor":MAILTO:info@luxor.cz
END:VEVENT
END:VCALENDAR