BEGIN:VCALENDAR
VERSION:2.0
PRODID:-//Blog knihkupectví Luxor - ECPv6.15.20//NONSGML v1.0//EN
CALSCALE:GREGORIAN
METHOD:PUBLISH
X-ORIGINAL-URL:https://www.luxor.cz/blog
X-WR-CALDESC:Akce na Blog knihkupectví Luxor
REFRESH-INTERVAL;VALUE=DURATION:PT1H
X-Robots-Tag:noindex
X-PUBLISHED-TTL:PT1H
BEGIN:VTIMEZONE
TZID:Europe/Prague
BEGIN:DAYLIGHT
TZOFFSETFROM:+0100
TZOFFSETTO:+0200
TZNAME:CEST
DTSTART:20160327T010000
END:DAYLIGHT
BEGIN:STANDARD
TZOFFSETFROM:+0200
TZOFFSETTO:+0100
TZNAME:CET
DTSTART:20161030T010000
END:STANDARD
BEGIN:DAYLIGHT
TZOFFSETFROM:+0100
TZOFFSETTO:+0200
TZNAME:CEST
DTSTART:20170326T010000
END:DAYLIGHT
BEGIN:STANDARD
TZOFFSETFROM:+0200
TZOFFSETTO:+0100
TZNAME:CET
DTSTART:20171029T010000
END:STANDARD
BEGIN:DAYLIGHT
TZOFFSETFROM:+0100
TZOFFSETTO:+0200
TZNAME:CEST
DTSTART:20180325T010000
END:DAYLIGHT
BEGIN:STANDARD
TZOFFSETFROM:+0200
TZOFFSETTO:+0100
TZNAME:CET
DTSTART:20181028T010000
END:STANDARD
END:VTIMEZONE
BEGIN:VEVENT
DTSTART;TZID=Europe/Prague:20171121T153000
DTEND;TZID=Europe/Prague:20171121T153000
DTSTAMP:20260423T221644
CREATED:20190831T151959Z
LAST-MODIFIED:20190831T152000Z
UID:1571-1511278200-1511278200@www.luxor.cz
SUMMARY:Uvedení knihy Století Miroslava Zikmunda
DESCRIPTION:Bouřlivé dějiny dvacátého století očima muže\, který poznal celý svět \nTato kniha není životopisem Miroslava Zikmunda. Je to pozvánka do světa pověstného archivu. Je to posezení u stolu s Miroslavem Zikmundem. Nalejete si hlteček slivovice do kameniny anebo sklenku těžšího\, plnějšího červeného vína\, takhle to děláváme my. Můžeme vás ujistit\, že za každým příběhem se kromě jiného skrývá i konkrétní debata\, kterou jsme vedli a která uváděla témata v souvislosti. Je to vstupenka do lunaparku jménem život (anebo dějiny)\, kde si sednete tu na horskou dráhu\, tu do domu hrůzy\, jindy vás odnese tobogán jménem náhoda. Půjdete s námi po stopách vzniku filmu Století Miroslava Zikmunda\, po stopách života Miroslava Zikmunda a tím i po mezních situacích celé naší republiky. Jak Miroslav Zikmund říká: „Byl jsem zplozen ještě za Rakouska-Uherska a narodil se do prvních dnů republiky. Proto ji celý život považuji za svého o krapátek staršího bráchu.“ \nKniha obsahuje dosud nepublikované informace\, dobové fotografie a ilustrace Elišky Chytkové.
URL:https://www.luxor.cz/blog/akce/krest-knihy-stoleti-miroslava-zikmunda--1014/
LOCATION:Palác knih Luxor\, Václavské náměstí 820/41\, Praha 1\, 11000\, Česká republika
ORGANIZER;CN="Luxor":MAILTO:info@luxor.cz
END:VEVENT
END:VCALENDAR