BEGIN:VCALENDAR
VERSION:2.0
PRODID:-//Blog knihkupectví Luxor - ECPv6.15.20//NONSGML v1.0//EN
CALSCALE:GREGORIAN
METHOD:PUBLISH
X-WR-CALNAME:Blog knihkupectví Luxor
X-ORIGINAL-URL:https://www.luxor.cz/blog
X-WR-CALDESC:Akce na Blog knihkupectví Luxor
REFRESH-INTERVAL;VALUE=DURATION:PT1H
X-Robots-Tag:noindex
X-PUBLISHED-TTL:PT1H
BEGIN:VTIMEZONE
TZID:Europe/Prague
BEGIN:DAYLIGHT
TZOFFSETFROM:+0100
TZOFFSETTO:+0200
TZNAME:CEST
DTSTART:20160327T010000
END:DAYLIGHT
BEGIN:STANDARD
TZOFFSETFROM:+0200
TZOFFSETTO:+0100
TZNAME:CET
DTSTART:20161030T010000
END:STANDARD
BEGIN:DAYLIGHT
TZOFFSETFROM:+0100
TZOFFSETTO:+0200
TZNAME:CEST
DTSTART:20170326T010000
END:DAYLIGHT
BEGIN:STANDARD
TZOFFSETFROM:+0200
TZOFFSETTO:+0100
TZNAME:CET
DTSTART:20171029T010000
END:STANDARD
BEGIN:DAYLIGHT
TZOFFSETFROM:+0100
TZOFFSETTO:+0200
TZNAME:CEST
DTSTART:20180325T010000
END:DAYLIGHT
BEGIN:STANDARD
TZOFFSETFROM:+0200
TZOFFSETTO:+0100
TZNAME:CET
DTSTART:20181028T010000
END:STANDARD
END:VTIMEZONE
BEGIN:VEVENT
DTSTART;TZID=Europe/Prague:20171115T150000
DTEND;TZID=Europe/Prague:20171115T150000
DTSTAMP:20260423T221646
CREATED:20190831T151956Z
LAST-MODIFIED:20190831T151956Z
UID:1565-1510758000-1510758000@www.luxor.cz
SUMMARY:Autogramiáda Tomáše Kluse a ostatních tvůrců knihy a CD Ukolébavky
DESCRIPTION:
URL:https://www.luxor.cz/blog/akce/tomas-klus-pokrti-ukolebavky--1008/
LOCATION:Palác knih Luxor\, Václavské náměstí 820/41\, Praha 1\, 11000\, Česká republika
ORGANIZER;CN="Luxor":MAILTO:info@luxor.cz
END:VEVENT
BEGIN:VEVENT
DTSTART;TZID=Europe/Prague:20171115T160000
DTEND;TZID=Europe/Prague:20171115T160000
DTSTAMP:20260423T221646
CREATED:20190831T152009Z
LAST-MODIFIED:20190831T152011Z
UID:1599-1510761600-1510761600@www.luxor.cz
SUMMARY:CHODOV: Autogramiáda charitativního kalendáře Fantastická 13
DESCRIPTION:
URL:https://www.luxor.cz/blog/akce/chodov-autogramiada-charitativniho-kalendare-fantasticka-13--1028/
LOCATION:Knihkupectví Chodov\, Centrum Chodov\, Praha 4\, 14000\, Česká republika
ORGANIZER;CN="Luxor":MAILTO:info@luxor.cz
END:VEVENT
BEGIN:VEVENT
DTSTART;TZID=Europe/Prague:20171115T170000
DTEND;TZID=Europe/Prague:20171115T170000
DTSTAMP:20260423T221646
CREATED:20190831T151956Z
LAST-MODIFIED:20190831T151956Z
UID:1566-1510765200-1510765200@www.luxor.cz
SUMMARY:Křest fotbalové knihy Poločasy rozpadu
DESCRIPTION:
URL:https://www.luxor.cz/blog/akce/krest-fotbalove-knihy-polocasy-rozpadu--1009/
LOCATION:Palác knih Luxor\, Václavské náměstí 820/41\, Praha 1\, 11000\, Česká republika
ORGANIZER;CN="Luxor":MAILTO:info@luxor.cz
END:VEVENT
BEGIN:VEVENT
DTSTART;TZID=Europe/Prague:20171115T235900
DTEND;TZID=Europe/Prague:20171115T235900
DTSTAMP:20260423T221646
CREATED:20190831T152010Z
LAST-MODIFIED:20190831T152011Z
UID:1600-1510790340-1510790340@www.luxor.cz
SUMMARY:Poštovné zdarma
DESCRIPTION:akce platí od 13. 11. 2017 od 12:00 do 15. 11. 2017 do 24:00\nna eshopu při objednávce nad 300 Kč\nplatí pouze při zaslání Českou poštou
URL:https://www.luxor.cz/blog/akce/postovne-zdarma--1029/
ORGANIZER;CN="Luxor":MAILTO:info@luxor.cz
END:VEVENT
END:VCALENDAR