BEGIN:VCALENDAR
VERSION:2.0
PRODID:-//Blog knihkupectví Luxor - ECPv6.15.20//NONSGML v1.0//EN
CALSCALE:GREGORIAN
METHOD:PUBLISH
X-WR-CALNAME:Blog knihkupectví Luxor
X-ORIGINAL-URL:https://www.luxor.cz/blog
X-WR-CALDESC:Akce na Blog knihkupectví Luxor
REFRESH-INTERVAL;VALUE=DURATION:PT1H
X-Robots-Tag:noindex
X-PUBLISHED-TTL:PT1H
BEGIN:VTIMEZONE
TZID:Europe/Prague
BEGIN:DAYLIGHT
TZOFFSETFROM:+0100
TZOFFSETTO:+0200
TZNAME:CEST
DTSTART:20160327T010000
END:DAYLIGHT
BEGIN:STANDARD
TZOFFSETFROM:+0200
TZOFFSETTO:+0100
TZNAME:CET
DTSTART:20161030T010000
END:STANDARD
BEGIN:DAYLIGHT
TZOFFSETFROM:+0100
TZOFFSETTO:+0200
TZNAME:CEST
DTSTART:20170326T010000
END:DAYLIGHT
BEGIN:STANDARD
TZOFFSETFROM:+0200
TZOFFSETTO:+0100
TZNAME:CET
DTSTART:20171029T010000
END:STANDARD
BEGIN:DAYLIGHT
TZOFFSETFROM:+0100
TZOFFSETTO:+0200
TZNAME:CEST
DTSTART:20180325T010000
END:DAYLIGHT
BEGIN:STANDARD
TZOFFSETFROM:+0200
TZOFFSETTO:+0100
TZNAME:CET
DTSTART:20181028T010000
END:STANDARD
END:VTIMEZONE
BEGIN:VEVENT
DTSTART;TZID=Europe/Prague:20171109T170000
DTEND;TZID=Europe/Prague:20171109T170000
DTSTAMP:20260423T221646
CREATED:20190831T151953Z
LAST-MODIFIED:20190831T151954Z
UID:1553-1510246800-1510246800@www.luxor.cz
SUMMARY:Křest knihy Pane\, vy jste režisér!
DESCRIPTION:Tvůrce nesmrtelných filmových hitů Pane\, vy jste vdova\, Dívka na koštěti\, Tři oříšky pro Popelku\, Jak utopit dr. Mráčka či seriálů Arabela nebo Létající Čestmír v knize novináře a publicisty Petra Macka vzpomíná na herecké hvězdy\, které jeho snímky prošly\, i peripetie a veselé historky spojené s jejich natáčením. Jací byli Jiří Sovák\, Vladimír Menšík\, Iva Janžurová\, Jiřina Bohdalová a mnozí další\, když se vypnuly kamery? Kdo ho nejvíc zlobil? S kým se nejvíce přátelil? Jaký svůj film má nejraději a který by rád vymazal? Král pohádek a komedií\, mistr mezi filmovými režiséry Václav Vorlíček vám to poví!
URL:https://www.luxor.cz/blog/akce/krest-knihy-pane-vy-jste-reziser--1001/
LOCATION:Palác knih Luxor\, Václavské náměstí 820/41\, Praha 1\, 11000\, Česká republika
ORGANIZER;CN="Luxor":MAILTO:info@luxor.cz
END:VEVENT
BEGIN:VEVENT
DTSTART;TZID=Europe/Prague:20171109T183000
DTEND;TZID=Europe/Prague:20171109T183000
DTSTAMP:20260423T221646
CREATED:20190831T152006Z
LAST-MODIFIED:20190831T152007Z
UID:1591-1510252200-1510252200@www.luxor.cz
SUMMARY:Křest a autogramiáda knihy Rady ptáka Loskutáka Petra Rychlého
DESCRIPTION:
URL:https://www.luxor.cz/blog/akce/krest-a-autogramiada-knihy-rady-ptaka-loskutaka-petra-rychleho--1025/
LOCATION:Palác knih Luxor\, Václavské náměstí 820/41\, Praha 1\, 11000\, Česká republika
ORGANIZER;CN="Luxor":MAILTO:info@luxor.cz
END:VEVENT
END:VCALENDAR