BEGIN:VCALENDAR
VERSION:2.0
PRODID:-//Blog knihkupectví Luxor - ECPv6.15.20//NONSGML v1.0//EN
CALSCALE:GREGORIAN
METHOD:PUBLISH
X-WR-CALNAME:Blog knihkupectví Luxor
X-ORIGINAL-URL:https://www.luxor.cz/blog
X-WR-CALDESC:Akce na Blog knihkupectví Luxor
REFRESH-INTERVAL;VALUE=DURATION:PT1H
X-Robots-Tag:noindex
X-PUBLISHED-TTL:PT1H
BEGIN:VTIMEZONE
TZID:Europe/Prague
BEGIN:DAYLIGHT
TZOFFSETFROM:+0100
TZOFFSETTO:+0200
TZNAME:CEST
DTSTART:20160327T010000
END:DAYLIGHT
BEGIN:STANDARD
TZOFFSETFROM:+0200
TZOFFSETTO:+0100
TZNAME:CET
DTSTART:20161030T010000
END:STANDARD
BEGIN:DAYLIGHT
TZOFFSETFROM:+0100
TZOFFSETTO:+0200
TZNAME:CEST
DTSTART:20170326T010000
END:DAYLIGHT
BEGIN:STANDARD
TZOFFSETFROM:+0200
TZOFFSETTO:+0100
TZNAME:CET
DTSTART:20171029T010000
END:STANDARD
BEGIN:DAYLIGHT
TZOFFSETFROM:+0100
TZOFFSETTO:+0200
TZNAME:CEST
DTSTART:20180325T010000
END:DAYLIGHT
BEGIN:STANDARD
TZOFFSETFROM:+0200
TZOFFSETTO:+0100
TZNAME:CET
DTSTART:20181028T010000
END:STANDARD
END:VTIMEZONE
BEGIN:VEVENT
DTSTART;TZID=Europe/Prague:20171108T160000
DTEND;TZID=Europe/Prague:20171108T160000
DTSTAMP:20260423T221648
CREATED:20190831T151949Z
LAST-MODIFIED:20190831T151951Z
UID:1546-1510156800-1510156800@www.luxor.cz
SUMMARY:Křest 3. dílu Retro ČS
DESCRIPTION:Retro ČS 3 (Povolená) dovolená  \nJak jsme (ne)cestovali za reálného socialismu.Jedinečná obrazová publikace o československém retrosvětě.? \nV dalším pokračování knihy Retro ČS si čtenář konečně užije i trochu zaslouženého odpočinku\, dokonce i neplánovaného. Expedice do časů socialismu startuje během uhelných prázdnin zkraje roku 1979\, ale autor se jak textem\, tak i již tradičně bohatým obrazovým doprovodem zaměřuje na trávení volného času a zejména cestování před tímto datem i po něm. \nTřetím dílem se uzavírá úspěšný knižní cyklus\, kterým Michal Petrov navázal na svůj televizní a později také rozhlasový projekt. Jako pamětník závěrečné fáze československého socialismu nabízí čtenářům vedle obecné informační hodnoty\, za niž s prvním a druhým dílem získal ocenění odborníků\, i řadu osobních postřehů. \nTéma a jeho zpracování mu přinesly úspěch i u široké čtenářské obce – první dva díly trilogie Retro ČS se staly knižními bestsellery ve své kategorii. \nProbuďte i s tím třetím své zasuté vzpomínky. Vydejte se na CESTU.
URL:https://www.luxor.cz/blog/akce/krest-3-dilu-retro-cs--999/
LOCATION:Palác knih Luxor\, Václavské náměstí 820/41\, Praha 1\, 11000\, Česká republika
ORGANIZER;CN="Luxor":MAILTO:info@luxor.cz
END:VEVENT
BEGIN:VEVENT
DTSTART;TZID=Europe/Prague:20171108T180000
DTEND;TZID=Europe/Prague:20171108T180000
DTSTAMP:20260423T221648
CREATED:20190831T151952Z
LAST-MODIFIED:20190831T151954Z
UID:1552-1510164000-1510164000@www.luxor.cz
SUMMARY:Křest kalendáře nadace ALSA Runy 2018
DESCRIPTION:
URL:https://www.luxor.cz/blog/akce/krest-kalendare-nadace-alsa-runy-2018--1000/
LOCATION:Palác knih Luxor\, Václavské náměstí 820/41\, Praha 1\, 11000\, Česká republika
ORGANIZER;CN="Luxor":MAILTO:info@luxor.cz
END:VEVENT
END:VCALENDAR