BEGIN:VCALENDAR
VERSION:2.0
PRODID:-//Blog knihkupectví Luxor - ECPv6.15.20//NONSGML v1.0//EN
CALSCALE:GREGORIAN
METHOD:PUBLISH
X-WR-CALNAME:Blog knihkupectví Luxor
X-ORIGINAL-URL:https://www.luxor.cz/blog
X-WR-CALDESC:Akce na Blog knihkupectví Luxor
REFRESH-INTERVAL;VALUE=DURATION:PT1H
X-Robots-Tag:noindex
X-PUBLISHED-TTL:PT1H
BEGIN:VTIMEZONE
TZID:Europe/Prague
BEGIN:DAYLIGHT
TZOFFSETFROM:+0100
TZOFFSETTO:+0200
TZNAME:CEST
DTSTART:20160327T010000
END:DAYLIGHT
BEGIN:STANDARD
TZOFFSETFROM:+0200
TZOFFSETTO:+0100
TZNAME:CET
DTSTART:20161030T010000
END:STANDARD
BEGIN:DAYLIGHT
TZOFFSETFROM:+0100
TZOFFSETTO:+0200
TZNAME:CEST
DTSTART:20170326T010000
END:DAYLIGHT
BEGIN:STANDARD
TZOFFSETFROM:+0200
TZOFFSETTO:+0100
TZNAME:CET
DTSTART:20171029T010000
END:STANDARD
BEGIN:DAYLIGHT
TZOFFSETFROM:+0100
TZOFFSETTO:+0200
TZNAME:CEST
DTSTART:20180325T010000
END:DAYLIGHT
BEGIN:STANDARD
TZOFFSETFROM:+0200
TZOFFSETTO:+0100
TZNAME:CET
DTSTART:20181028T010000
END:STANDARD
END:VTIMEZONE
BEGIN:VEVENT
DTSTART;TZID=Europe/Prague:20171107T160000
DTEND;TZID=Europe/Prague:20171107T160000
DTSTAMP:20260423T221647
CREATED:20190831T151949Z
LAST-MODIFIED:20190831T151951Z
UID:1545-1510070400-1510070400@www.luxor.cz
SUMMARY:Křest knihy Sestry Foxovy
DESCRIPTION:Fascinující příběh sester Foxových\, zakladatelek spiritismu\, obdařených nadpřirozenými schopnosti nebo bujnou fantazií?  \nKam odejdou duše zemřelých? Kam se poděje podstata člověka\, kterého jsme milovali? Mohou se mrtví vracet a komunikovat s námi? \nNa tyto odvěké otázky přinesly odpověď milionům zoufalých pozůstalých sestry Foxovy v Americe druhé poloviny 19. století. Fascinující životní příběh těchto mladých žen\, zakladatelek spiritistického hnutí\, se začíná odvíjet spolu se vznikem moderní doby\, která přinesla úžasné vynálezy jako elektrické osvětlení\, dynamit\, spalovací motor nebo žvýkačky\, ale také drastickou dětskou úmrtnost spojenou s překotným rozvojem měst bez dostatečného hygienického zázemí. \nLidem této doby přestávají stačit staré náboženské odpovědi na otázky\, které po staletí trápí lidskou zvědavost. Nepomůže věda? Když všude kolem nás proudí neviditelné paprsky a fyzikální síly\, o kterých ještě před pár lety neměl nikdo ani tušení\, a pomocí telegrafu lze v mžiku překonat i ty nejdelší vzdálenosti\, proč by si duchové z říše mrtvých nemohli najít cestu\, jak se spojit s námi živými a odhalit tak tajemství posmrtného života? \nPoptávka po komunikaci s mrtvými je obrovská\, lidé všech společenských vrstev jsou ochotni platit jakékoliv peníze\, jen aby nalezli útěchu. U mladých\, okouzlujících a nevinně vypadajících dívek\, vyhledávaných médií\, se dveře netrhnou. Jenomže cena za slávu\, peníze a zbožnou úctu je vysoká…
URL:https://www.luxor.cz/blog/akce/krest-knihy-sestry-foxovy--998/
LOCATION:Palác knih Luxor\, Václavské náměstí 820/41\, Praha 1\, 11000\, Česká republika
ORGANIZER;CN="Luxor":MAILTO:info@luxor.cz
END:VEVENT
BEGIN:VEVENT
DTSTART;TZID=Europe/Prague:20171107T180000
DTEND;TZID=Europe/Prague:20171107T180000
DTSTAMP:20260423T221647
CREATED:20190831T152009Z
LAST-MODIFIED:20190831T152011Z
UID:1597-1510077600-1510077600@www.luxor.cz
SUMMARY:Křest 25. dílu Toulavé kamery
DESCRIPTION:
URL:https://www.luxor.cz/blog/akce/krest-25-dilu-toulave-kamery--1026/
LOCATION:Palác knih Luxor\, Václavské náměstí 820/41\, Praha 1\, 11000\, Česká republika
ORGANIZER;CN="Luxor":MAILTO:info@luxor.cz
END:VEVENT
END:VCALENDAR