BEGIN:VCALENDAR
VERSION:2.0
PRODID:-//Blog knihkupectví Luxor - ECPv6.15.20//NONSGML v1.0//EN
CALSCALE:GREGORIAN
METHOD:PUBLISH
X-WR-CALNAME:Blog knihkupectví Luxor
X-ORIGINAL-URL:https://www.luxor.cz/blog
X-WR-CALDESC:Akce na Blog knihkupectví Luxor
REFRESH-INTERVAL;VALUE=DURATION:PT1H
X-Robots-Tag:noindex
X-PUBLISHED-TTL:PT1H
BEGIN:VTIMEZONE
TZID:Europe/Prague
BEGIN:DAYLIGHT
TZOFFSETFROM:+0100
TZOFFSETTO:+0200
TZNAME:CEST
DTSTART:20160327T010000
END:DAYLIGHT
BEGIN:STANDARD
TZOFFSETFROM:+0200
TZOFFSETTO:+0100
TZNAME:CET
DTSTART:20161030T010000
END:STANDARD
BEGIN:DAYLIGHT
TZOFFSETFROM:+0100
TZOFFSETTO:+0200
TZNAME:CEST
DTSTART:20170326T010000
END:DAYLIGHT
BEGIN:STANDARD
TZOFFSETFROM:+0200
TZOFFSETTO:+0100
TZNAME:CET
DTSTART:20171029T010000
END:STANDARD
BEGIN:DAYLIGHT
TZOFFSETFROM:+0100
TZOFFSETTO:+0200
TZNAME:CEST
DTSTART:20180325T010000
END:DAYLIGHT
BEGIN:STANDARD
TZOFFSETFROM:+0200
TZOFFSETTO:+0100
TZNAME:CET
DTSTART:20181028T010000
END:STANDARD
END:VTIMEZONE
BEGIN:VEVENT
DTSTART;TZID=Europe/Prague:20171106T153000
DTEND;TZID=Europe/Prague:20171106T153000
DTSTAMP:20260423T221647
CREATED:20190831T151949Z
LAST-MODIFIED:20190831T151950Z
UID:1542-1509982200-1509982200@www.luxor.cz
SUMMARY:Křest knihy Případy kapitána Exnera 1
DESCRIPTION:
URL:https://www.luxor.cz/blog/akce/krest-knihy-pripady-kapitana-exnera-1--995/
LOCATION:Palác knih Luxor\, Václavské náměstí 820/41\, Praha 1\, 11000\, Česká republika
ORGANIZER;CN="Luxor":MAILTO:info@luxor.cz
END:VEVENT
BEGIN:VEVENT
DTSTART;TZID=Europe/Prague:20171106T170000
DTEND;TZID=Europe/Prague:20171106T170000
DTSTAMP:20260423T221647
CREATED:20190831T151949Z
LAST-MODIFIED:20190831T151950Z
UID:1543-1509987600-1509987600@www.luxor.cz
SUMMARY:Křest kuchařky Bezlepkové pečení pro každého
DESCRIPTION:Zdravý a chutný svět bez lepku – to je 70 receptů pro ty\, kteří rádi mlsají\, avšak lepek nesmějí nebo ho vynechávají jako součást redukční diety\, či jím nechtějí zatěžovat svůj organismus. Prožijte celý rok\, narozeninové oslavy\, party\, setkání s přáteli a Vánoce s úžasnými bezlepkovými moučníky\, dezerty\, koláčky\, muffiny nebo dorty\, které jsou osvědčené a mnohokrát vyzkoušené\, takže se musí vždy podařit. Zkrátka se naučíte krok za krokem\, jak péct v domácí pohodě lahodně bez lepku.
URL:https://www.luxor.cz/blog/akce/krest-kucharky-bezlepkove-peceni-pro-kazdeho--996/
LOCATION:Palác knih Luxor\, Václavské náměstí 820/41\, Praha 1\, 11000\, Česká republika
ORGANIZER;CN="Luxor":MAILTO:info@luxor.cz
END:VEVENT
BEGIN:VEVENT
DTSTART;TZID=Europe/Prague:20171106T183000
DTEND;TZID=Europe/Prague:20171106T183000
DTSTAMP:20260423T221647
CREATED:20190831T151949Z
LAST-MODIFIED:20190831T151951Z
UID:1544-1509993000-1509993000@www.luxor.cz
SUMMARY:Křest knihy Hrdinové - Největší příběhy české kopané
DESCRIPTION:Výpravná publikace Hrdinové chce svým námětem spojit generace otců\, synů a dědů. Představuje fotbal jako součást našeho života\, jako něco\, na co můžeme být pyšní\, a jako něco\, z čeho se dokážeme poučit. Hlavním poselstvím knihy je skutečnost\, že k hrdinství nestačí jen sportovní výkon\, ale jsou k němu potřeba výjimečné lidské vlastnosti. Odvaha\, čestnost a gentlemanství. Co dělá člověka hrdinou? Obdivuhodný čin\, postoj\, nasazení… A právě o těchto vlastnostech kniha je. Rozebírá osobnostní rysy a činy pozapomenutých nebo stále živoucích hrdinů\, kteří nezapommenutelně hráli hru jménem fotbal. V různých dobách\, v různých klubech. A ať už to byli Češi\, Slováci\, Rakušané\, Němci nebo Židé\, vždycky byli a měli by zůstat naši. Naši hrdinové. Naše legendy. Jde o nový pohled na český fotbal\, jako společenský fenomén\, který ovlivňuje naše životy\, stejně jako ovlivňoval životy našich dědů. A stejně bude jednou ovlivňovat budoucí životy.
URL:https://www.luxor.cz/blog/akce/krest-knihy-hrdinove-nejvetsi-pribehy-ceske-kopane--997/
LOCATION:Palác knih Luxor\, Václavské náměstí 820/41\, Praha 1\, 11000\, Česká republika
ORGANIZER;CN="Luxor":MAILTO:info@luxor.cz
END:VEVENT
END:VCALENDAR