BEGIN:VCALENDAR
VERSION:2.0
PRODID:-//Blog knihkupectví Luxor - ECPv6.15.20//NONSGML v1.0//EN
CALSCALE:GREGORIAN
METHOD:PUBLISH
X-ORIGINAL-URL:https://www.luxor.cz/blog
X-WR-CALDESC:Akce na Blog knihkupectví Luxor
REFRESH-INTERVAL;VALUE=DURATION:PT1H
X-Robots-Tag:noindex
X-PUBLISHED-TTL:PT1H
BEGIN:VTIMEZONE
TZID:Europe/Prague
BEGIN:DAYLIGHT
TZOFFSETFROM:+0100
TZOFFSETTO:+0200
TZNAME:CEST
DTSTART:20160327T010000
END:DAYLIGHT
BEGIN:STANDARD
TZOFFSETFROM:+0200
TZOFFSETTO:+0100
TZNAME:CET
DTSTART:20161030T010000
END:STANDARD
BEGIN:DAYLIGHT
TZOFFSETFROM:+0100
TZOFFSETTO:+0200
TZNAME:CEST
DTSTART:20170326T010000
END:DAYLIGHT
BEGIN:STANDARD
TZOFFSETFROM:+0200
TZOFFSETTO:+0100
TZNAME:CET
DTSTART:20171029T010000
END:STANDARD
BEGIN:DAYLIGHT
TZOFFSETFROM:+0100
TZOFFSETTO:+0200
TZNAME:CEST
DTSTART:20180325T010000
END:DAYLIGHT
BEGIN:STANDARD
TZOFFSETFROM:+0200
TZOFFSETTO:+0100
TZNAME:CET
DTSTART:20181028T010000
END:STANDARD
END:VTIMEZONE
BEGIN:VEVENT
DTSTART;TZID=Europe/Prague:20171101T170000
DTEND;TZID=Europe/Prague:20171101T170000
DTSTAMP:20260423T221723
CREATED:20190831T151946Z
LAST-MODIFIED:20190831T151947Z
UID:1534-1509555600-1509555600@www.luxor.cz
SUMMARY:Premiéra knihy Jmenuju se Tomáš a autogramiáda
DESCRIPTION:
URL:https://www.luxor.cz/blog/akce/premiera-knihy-jmenuju-se-tomas-a-autogramiada--991/
LOCATION:Palác knih Luxor\, Václavské náměstí 820/41\, Praha 1\, 11000\, Česká republika
ORGANIZER;CN="Luxor":MAILTO:info@luxor.cz
END:VEVENT
BEGIN:VEVENT
DTSTART;TZID=Europe/Prague:20171101T183000
DTEND;TZID=Europe/Prague:20171101T183000
DTSTAMP:20260423T221723
CREATED:20190831T151946Z
LAST-MODIFIED:20190831T151947Z
UID:1535-1509561000-1509561000@www.luxor.cz
SUMMARY:Představení knihy Příběh Mexika\, zemí střední Ameriky a Karibiku
DESCRIPTION:
URL:https://www.luxor.cz/blog/akce/predstaveni-knihy-pribeh-mexika-zemi-stredni-ameriky-a-karibiku--992/
LOCATION:Palác knih Luxor\, Václavské náměstí 820/41\, Praha 1\, 11000\, Česká republika
ORGANIZER;CN="Luxor":MAILTO:info@luxor.cz
END:VEVENT
END:VCALENDAR