BEGIN:VCALENDAR
VERSION:2.0
PRODID:-//Blog knihkupectví Luxor - ECPv6.15.20//NONSGML v1.0//EN
CALSCALE:GREGORIAN
METHOD:PUBLISH
X-WR-CALNAME:Blog knihkupectví Luxor
X-ORIGINAL-URL:https://www.luxor.cz/blog
X-WR-CALDESC:Akce na Blog knihkupectví Luxor
REFRESH-INTERVAL;VALUE=DURATION:PT1H
X-Robots-Tag:noindex
X-PUBLISHED-TTL:PT1H
BEGIN:VTIMEZONE
TZID:Europe/Prague
BEGIN:DAYLIGHT
TZOFFSETFROM:+0100
TZOFFSETTO:+0200
TZNAME:CEST
DTSTART:20160327T010000
END:DAYLIGHT
BEGIN:STANDARD
TZOFFSETFROM:+0200
TZOFFSETTO:+0100
TZNAME:CET
DTSTART:20161030T010000
END:STANDARD
BEGIN:DAYLIGHT
TZOFFSETFROM:+0100
TZOFFSETTO:+0200
TZNAME:CEST
DTSTART:20170326T010000
END:DAYLIGHT
BEGIN:STANDARD
TZOFFSETFROM:+0200
TZOFFSETTO:+0100
TZNAME:CET
DTSTART:20171029T010000
END:STANDARD
BEGIN:DAYLIGHT
TZOFFSETFROM:+0100
TZOFFSETTO:+0200
TZNAME:CEST
DTSTART:20180325T010000
END:DAYLIGHT
BEGIN:STANDARD
TZOFFSETFROM:+0200
TZOFFSETTO:+0100
TZNAME:CET
DTSTART:20181028T010000
END:STANDARD
END:VTIMEZONE
BEGIN:VEVENT
DTSTART;TZID=Europe/Prague:20171024T170000
DTEND;TZID=Europe/Prague:20171024T170000
DTSTAMP:20260423T233612
CREATED:20190831T151938Z
LAST-MODIFIED:20190831T151940Z
UID:1512-1508864400-1508864400@www.luxor.cz
SUMMARY:Autogramiáda Ludmily Vaňkové a křest knihy Zrození království
DESCRIPTION:Ludmila Vaňková \nSpisovatelka historických románů\, novinářka\, překladatelka a\nredaktorka\, věnovala se divadlu a divadelní kritice. Její literární dílo\nzahrnuje nyní již 31 románů\, které stále znovu a znovu vycházejí. Stěžejní část\ntvoří královské románové ságy Přemyslovců a Lucemburků\, ve kterých ožilo slavné\núdobí českých dějin 13.-14. století\, kdy se království v srdci Evropy stalo\njednou z nejvýznamnějších velmocí středověku.  \nRománová šíře\, bohatství historie a dějů\, vytvořených autorčinou\nfantazií i z nepatrných zmínek středověkých kronik\, stovky postav s romanticky\nvzrušujícími příběhy i porozumění dávným lidským osudům\, to vše nadchlo\nmilovníky románové četby a její knihy se staly nejčtenější současnou českou\nhistorickou beletrií. Smysl pro odhalování tajemství a hledání neznámých světů\ninspirovaly Ludmilu Vaňkovou k napsání sci-fi románů s utopicko-fantastickými\nprvky\, v nichž se výjimečně nedívá jen do minulosti\, ale hlavně do budoucnosti.
URL:https://www.luxor.cz/blog/akce/autogramiada-ludmily-vankove-a-krest-knihy-zrozeni-kralovstvi--979/
LOCATION:Palác knih Luxor\, Václavské náměstí 820/41\, Praha 1\, 11000\, Česká republika
ORGANIZER;CN="Luxor":MAILTO:info@luxor.cz
END:VEVENT
END:VCALENDAR