BEGIN:VCALENDAR
VERSION:2.0
PRODID:-//Blog knihkupectví Luxor - ECPv6.15.20//NONSGML v1.0//EN
CALSCALE:GREGORIAN
METHOD:PUBLISH
X-WR-CALNAME:Blog knihkupectví Luxor
X-ORIGINAL-URL:https://www.luxor.cz/blog
X-WR-CALDESC:Akce na Blog knihkupectví Luxor
REFRESH-INTERVAL;VALUE=DURATION:PT1H
X-Robots-Tag:noindex
X-PUBLISHED-TTL:PT1H
BEGIN:VTIMEZONE
TZID:Europe/Prague
BEGIN:DAYLIGHT
TZOFFSETFROM:+0100
TZOFFSETTO:+0200
TZNAME:CEST
DTSTART:20160327T010000
END:DAYLIGHT
BEGIN:STANDARD
TZOFFSETFROM:+0200
TZOFFSETTO:+0100
TZNAME:CET
DTSTART:20161030T010000
END:STANDARD
BEGIN:DAYLIGHT
TZOFFSETFROM:+0100
TZOFFSETTO:+0200
TZNAME:CEST
DTSTART:20170326T010000
END:DAYLIGHT
BEGIN:STANDARD
TZOFFSETFROM:+0200
TZOFFSETTO:+0100
TZNAME:CET
DTSTART:20171029T010000
END:STANDARD
BEGIN:DAYLIGHT
TZOFFSETFROM:+0100
TZOFFSETTO:+0200
TZNAME:CEST
DTSTART:20180325T010000
END:DAYLIGHT
BEGIN:STANDARD
TZOFFSETFROM:+0200
TZOFFSETTO:+0100
TZNAME:CET
DTSTART:20181028T010000
END:STANDARD
END:VTIMEZONE
BEGIN:VEVENT
DTSTART;TZID=Europe/Prague:20171019T170000
DTEND;TZID=Europe/Prague:20171019T170000
DTSTAMP:20260423T233612
CREATED:20190831T151935Z
LAST-MODIFIED:20190831T151936Z
UID:1504-1508432400-1508432400@www.luxor.cz
SUMMARY:Křest kuchařky Štěstí na talíři nutriční specialistky Lady Noskové
DESCRIPTION:Proč Štěstí na talíři? \nProtože\, když víte jak na to\, odpadá stres “co máte jíst”.  \nDíky kuchařce od nutriční terapeutky začnete vařit zdravě a zároveň\nvelmi chutně.  \nVaše rodina se k vašemu jídelníčku připojí\, protože máte na talíři vždy\nvětší dobrotu než oni.  \nV kuchyni to voní\, všichni si užíváte zdravá jídla a vy hubnete.\nPřátelé\, kteří k vám přijdou na večeři\, se jen olizují a prosí o recept.\nZačínají vám zářit oči\, kamarádi vás chválí\, jak úžasně vypadáte. Koupíte si\nnovou sukni nebo kalhoty a najednou si uvědomíte\, jak jste šťastná.
URL:https://www.luxor.cz/blog/akce/krest-kucharky-stesti-na-taliri-nutricni-specialistky-lady-noskove--976/
LOCATION:Palác knih Luxor\, Václavské náměstí 820/41\, Praha 1\, 11000\, Česká republika
ORGANIZER;CN="Luxor":MAILTO:info@luxor.cz
END:VEVENT
END:VCALENDAR