BEGIN:VCALENDAR
VERSION:2.0
PRODID:-//Blog knihkupectví Luxor - ECPv6.15.20//NONSGML v1.0//EN
CALSCALE:GREGORIAN
METHOD:PUBLISH
X-ORIGINAL-URL:https://www.luxor.cz/blog
X-WR-CALDESC:Akce na Blog knihkupectví Luxor
REFRESH-INTERVAL;VALUE=DURATION:PT1H
X-Robots-Tag:noindex
X-PUBLISHED-TTL:PT1H
BEGIN:VTIMEZONE
TZID:Europe/Prague
BEGIN:DAYLIGHT
TZOFFSETFROM:+0100
TZOFFSETTO:+0200
TZNAME:CEST
DTSTART:20160327T010000
END:DAYLIGHT
BEGIN:STANDARD
TZOFFSETFROM:+0200
TZOFFSETTO:+0100
TZNAME:CET
DTSTART:20161030T010000
END:STANDARD
BEGIN:DAYLIGHT
TZOFFSETFROM:+0100
TZOFFSETTO:+0200
TZNAME:CEST
DTSTART:20170326T010000
END:DAYLIGHT
BEGIN:STANDARD
TZOFFSETFROM:+0200
TZOFFSETTO:+0100
TZNAME:CET
DTSTART:20171029T010000
END:STANDARD
BEGIN:DAYLIGHT
TZOFFSETFROM:+0100
TZOFFSETTO:+0200
TZNAME:CEST
DTSTART:20180325T010000
END:DAYLIGHT
BEGIN:STANDARD
TZOFFSETFROM:+0200
TZOFFSETTO:+0100
TZNAME:CET
DTSTART:20181028T010000
END:STANDARD
END:VTIMEZONE
BEGIN:VEVENT
DTSTART;TZID=Europe/Prague:20171018T150000
DTEND;TZID=Europe/Prague:20171018T150000
DTSTAMP:20260423T233655
CREATED:20190831T151935Z
LAST-MODIFIED:20190831T151936Z
UID:1505-1508338800-1508338800@www.luxor.cz
SUMMARY:Autogramiáda Margaret Atwoodové
DESCRIPTION:
URL:https://www.luxor.cz/blog/akce/autogramiada-margaret-atwoodove--977/
LOCATION:Palác knih Luxor\, Václavské náměstí 820/41\, Praha 1\, 11000\, Česká republika
ORGANIZER;CN="Luxor":MAILTO:info@luxor.cz
END:VEVENT
BEGIN:VEVENT
DTSTART;TZID=Europe/Prague:20171018T170000
DTEND;TZID=Europe/Prague:20171018T170000
DTSTAMP:20260423T233655
CREATED:20190831T151935Z
LAST-MODIFIED:20190831T151937Z
UID:1506-1508346000-1508346000@www.luxor.cz
SUMMARY:Křest komiksu Malá máma
DESCRIPTION:Být rodičem není jen tak – o tom už Malá máma něco ví. Její syn Lojzíček je pro ni nekonečný zdroj inspirace\, kterou přetváří do vtipných komiksů. Jak je možné\, že se dítě během chvilky změní v Supermana\, proč se mámy s kojencem balí na odpolední kafe k sousedce jako na několikaměsíční expedici a jak by mělo okolí dávkovat „dobře míněné“ rady – to vše a ještě mnohem víc najdete v této vtipné knize. Zn.: Testováno na dětech!
URL:https://www.luxor.cz/blog/akce/krest-komiksu-mala-mama--978/
LOCATION:Palác knih Luxor\, Václavské náměstí 820/41\, Praha 1\, 11000\, Česká republika
ORGANIZER;CN="Luxor":MAILTO:info@luxor.cz
END:VEVENT
BEGIN:VEVENT
DTSTART;TZID=Europe/Prague:20171018T183000
DTEND;TZID=Europe/Prague:20171018T183000
DTSTAMP:20260423T233655
CREATED:20190831T151942Z
LAST-MODIFIED:20190831T151943Z
UID:1526-1508351400-1508351400@www.luxor.cz
SUMMARY:Křest knihy Nakládačka na věčné časy Daniely Turecké
DESCRIPTION:Ať už býváte občas naložení všelijak\, mít v lednici zásobu naložených dobrot se vždycky vyplatí. Nakládané dobroty do sklenic uzavřené jsou gró této netradiční kuchařky. Sýry\, uzeniny\, zelenina či bylinky dokážou dodat nejrůznějším pokrmům ten správný švih a často poslouží i jako samostatná chuťovka k vínu či pivu. Daniela Turecká má s nakládáním bohaté zkušenosti\, a to nejlepší ze svých tajných tipů\, které se stanou vašimi stálicemi\, vám přináší v této knize. Vyzkoušejte například nakládané marinované tofu\, hermelín se zahraničním šmrncem nebo pořádně pikantní chilli mix a nebojte se ani nakládání masa – jediné sousto vás okamžitě přesvědčí a sami poznáte\, že do sklenice se dá uzamknout takřka všechno.
URL:https://www.luxor.cz/blog/akce/krest-knihy-nakladacka-na-vecne-casy-daniely-turecke--988/
LOCATION:Palác knih Luxor\, Václavské náměstí 820/41\, Praha 1\, 11000\, Česká republika
ORGANIZER;CN="Luxor":MAILTO:info@luxor.cz
END:VEVENT
END:VCALENDAR