BEGIN:VCALENDAR
VERSION:2.0
PRODID:-//Blog knihkupectví Luxor - ECPv6.15.20//NONSGML v1.0//EN
CALSCALE:GREGORIAN
METHOD:PUBLISH
X-ORIGINAL-URL:https://www.luxor.cz/blog
X-WR-CALDESC:Akce na Blog knihkupectví Luxor
REFRESH-INTERVAL;VALUE=DURATION:PT1H
X-Robots-Tag:noindex
X-PUBLISHED-TTL:PT1H
BEGIN:VTIMEZONE
TZID:Europe/Prague
BEGIN:DAYLIGHT
TZOFFSETFROM:+0100
TZOFFSETTO:+0200
TZNAME:CEST
DTSTART:20160327T010000
END:DAYLIGHT
BEGIN:STANDARD
TZOFFSETFROM:+0200
TZOFFSETTO:+0100
TZNAME:CET
DTSTART:20161030T010000
END:STANDARD
BEGIN:DAYLIGHT
TZOFFSETFROM:+0100
TZOFFSETTO:+0200
TZNAME:CEST
DTSTART:20170326T010000
END:DAYLIGHT
BEGIN:STANDARD
TZOFFSETFROM:+0200
TZOFFSETTO:+0100
TZNAME:CET
DTSTART:20171029T010000
END:STANDARD
BEGIN:DAYLIGHT
TZOFFSETFROM:+0100
TZOFFSETTO:+0200
TZNAME:CEST
DTSTART:20180325T010000
END:DAYLIGHT
BEGIN:STANDARD
TZOFFSETFROM:+0200
TZOFFSETTO:+0100
TZNAME:CET
DTSTART:20181028T010000
END:STANDARD
END:VTIMEZONE
BEGIN:VEVENT
DTSTART;TZID=Europe/Prague:20171017T160000
DTEND;TZID=Europe/Prague:20171017T160000
DTSTAMP:20260423T233643
CREATED:20190831T151935Z
LAST-MODIFIED:20190831T151936Z
UID:1502-1508256000-1508256000@www.luxor.cz
SUMMARY:Jedeme na výlet do knížky pokřtí Václav Kopta
DESCRIPTION:Jedeme na výlet do knížky – Magický autobus \nMarek a Jitka Hladkých\, ilustrace Nela Korbelová  \nAurélii\, Lojzíčka i řidiče Václava už děti nejspíš znají z předchozích\npohádkových knih manželů Hladkých. Ilustrovaný pohádkový příběh\, jehož patronem\na inspirátorem je herec Václav Kopta\, provede děti cestou zrodu knížky a pokusí\nse jim předat radost ze čtení.
URL:https://www.luxor.cz/blog/akce/jedeme-na-vylet-do-knizky-pokrti-vaclav-kopta--974/
LOCATION:Palác knih Luxor\, Václavské náměstí 820/41\, Praha 1\, 11000\, Česká republika
ORGANIZER;CN="Luxor":MAILTO:info@luxor.cz
END:VEVENT
END:VCALENDAR