BEGIN:VCALENDAR
VERSION:2.0
PRODID:-//Blog knihkupectví Luxor - ECPv6.15.20//NONSGML v1.0//EN
CALSCALE:GREGORIAN
METHOD:PUBLISH
X-ORIGINAL-URL:https://www.luxor.cz/blog
X-WR-CALDESC:Akce na Blog knihkupectví Luxor
REFRESH-INTERVAL;VALUE=DURATION:PT1H
X-Robots-Tag:noindex
X-PUBLISHED-TTL:PT1H
BEGIN:VTIMEZONE
TZID:Europe/Prague
BEGIN:DAYLIGHT
TZOFFSETFROM:+0100
TZOFFSETTO:+0200
TZNAME:CEST
DTSTART:20160327T010000
END:DAYLIGHT
BEGIN:STANDARD
TZOFFSETFROM:+0200
TZOFFSETTO:+0100
TZNAME:CET
DTSTART:20161030T010000
END:STANDARD
BEGIN:DAYLIGHT
TZOFFSETFROM:+0100
TZOFFSETTO:+0200
TZNAME:CEST
DTSTART:20170326T010000
END:DAYLIGHT
BEGIN:STANDARD
TZOFFSETFROM:+0200
TZOFFSETTO:+0100
TZNAME:CET
DTSTART:20171029T010000
END:STANDARD
BEGIN:DAYLIGHT
TZOFFSETFROM:+0100
TZOFFSETTO:+0200
TZNAME:CEST
DTSTART:20180325T010000
END:DAYLIGHT
BEGIN:STANDARD
TZOFFSETFROM:+0200
TZOFFSETTO:+0100
TZNAME:CET
DTSTART:20181028T010000
END:STANDARD
END:VTIMEZONE
BEGIN:VEVENT
DTSTART;TZID=Europe/Prague:20171013T170000
DTEND;TZID=Europe/Prague:20171013T170000
DTSTAMP:20260423T233655
CREATED:20190831T151932Z
LAST-MODIFIED:20190831T151933Z
UID:1495-1507914000-1507914000@www.luxor.cz
SUMMARY:Beseda a křest knihy Ilustrátoři dobrodružství Vladimíra Prokopa
DESCRIPTION:Ilustrátoři dobrodružství Vladimíra Prokopa \nVýpravná celobarevná velkoformátová (240×270 mm) publikace ukazuje na sedmnácti životních příbězích malířů vývoj ilustrace dobrodružných knih od konce 19. století až prakticky do současnosti. Představeni jsou Josef Ulrich\, Věnceslav Černý\, Stanislav Hudeček\, Václav Čutta\, Rudolf Komínek\, Jan Goth\, František Horník\, Jiří Wowk\, Alois Salač\, Zdeněk Burian\, Miloš Novák\, Václav Junek\, Bimba Konečný\, Jan Černý-Klatovský\, Jaromír Vraštil\, Gustav Krum a Karel Toman. Kniha obsahuje přibližně devět set padesát reprodukcí ilustrací\, knižních obálek\, fotografií a dokumentů a většina byla reprodukována z originálů. 
URL:https://www.luxor.cz/blog/akce/beseda-a-krest-knihy-ilustratori-dobrodruzstvi-vladimira-prokopa--972/
LOCATION:Palác knih Luxor\, Václavské náměstí 820/41\, Praha 1\, 11000\, Česká republika
ORGANIZER;CN="Luxor":MAILTO:info@luxor.cz
END:VEVENT
END:VCALENDAR