BEGIN:VCALENDAR
VERSION:2.0
PRODID:-//Blog knihkupectví Luxor - ECPv6.15.20//NONSGML v1.0//EN
CALSCALE:GREGORIAN
METHOD:PUBLISH
X-WR-CALNAME:Blog knihkupectví Luxor
X-ORIGINAL-URL:https://www.luxor.cz/blog
X-WR-CALDESC:Akce na Blog knihkupectví Luxor
REFRESH-INTERVAL;VALUE=DURATION:PT1H
X-Robots-Tag:noindex
X-PUBLISHED-TTL:PT1H
BEGIN:VTIMEZONE
TZID:Europe/Prague
BEGIN:DAYLIGHT
TZOFFSETFROM:+0100
TZOFFSETTO:+0200
TZNAME:CEST
DTSTART:20160327T010000
END:DAYLIGHT
BEGIN:STANDARD
TZOFFSETFROM:+0200
TZOFFSETTO:+0100
TZNAME:CET
DTSTART:20161030T010000
END:STANDARD
BEGIN:DAYLIGHT
TZOFFSETFROM:+0100
TZOFFSETTO:+0200
TZNAME:CEST
DTSTART:20170326T010000
END:DAYLIGHT
BEGIN:STANDARD
TZOFFSETFROM:+0200
TZOFFSETTO:+0100
TZNAME:CET
DTSTART:20171029T010000
END:STANDARD
BEGIN:DAYLIGHT
TZOFFSETFROM:+0100
TZOFFSETTO:+0200
TZNAME:CEST
DTSTART:20180325T010000
END:DAYLIGHT
BEGIN:STANDARD
TZOFFSETFROM:+0200
TZOFFSETTO:+0100
TZNAME:CET
DTSTART:20181028T010000
END:STANDARD
END:VTIMEZONE
BEGIN:VEVENT
DTSTART;TZID=Europe/Prague:20171005T100000
DTEND;TZID=Europe/Prague:20171005T100000
DTSTAMP:20260423T233613
CREATED:20190831T151928Z
LAST-MODIFIED:20190831T151929Z
UID:1486-1507197600-1507197600@www.luxor.cz
SUMMARY:Workshop pro děti se spisovatelem Jiřím Žáčkem
DESCRIPTION:
URL:https://www.luxor.cz/blog/akce/workshop-pro-deti-se-spisovatelem-jirim-zackem--968/
LOCATION:Palác knih Luxor\, Václavské náměstí 820/41\, Praha 1\, 11000\, Česká republika
ORGANIZER;CN="Luxor":MAILTO:info@luxor.cz
END:VEVENT
BEGIN:VEVENT
DTSTART;TZID=Europe/Prague:20171005T160000
DTEND;TZID=Europe/Prague:20171005T160000
DTSTAMP:20260423T233613
CREATED:20190831T151931Z
LAST-MODIFIED:20190831T151933Z
UID:1492-1507219200-1507219200@www.luxor.cz
SUMMARY:Křest knihy Příběhy mořeplavců
DESCRIPTION:Příběhy mořeplavců – Češi a Slováci\, kteří obepluli svět \nDlouho očekávaná publikace o historii české a slovenské\nmořeplavby vás provede vývojem tohoto pozoruhodného fenoménu země\, jež má k\nmoři víc než daleko. Obsahuje množství příběhů nejvýznačnějších českých a\nslovenských mořeplavců 20. a 21. století\, kteří dokázali obeplout svět. Od\npůsobivého vzpomínání na legendární osobnost Rudolfa Krautschneidera přes\nautentické příběhy Richarda Konkolského\, Jozefa Varsányiho\, Jiřího Albrechta\,\nIvana Orla\, Oldřicha Karáska\, Františka Sýkory\, Jiřího Denka\, Vlada Porvaznika\na dalších. Kdy a proč napadlo naše mořeplavce obeplout svět? Jak se dá v našich\npodmínkách postavit loď? Co vše během plaveb zdolali a do jakých úskalí a\nnebezpečí se dostali? Co jim plavba dala a naopak vzala? Kudy vede nejkratší\ncesta ze srdce Evropy na moře? Odpověď na tyto a množství dalších otázek\nnaleznete v této jedinečné publikaci\, která zahrnuje i přehledné dějiny\nmořeplavby\, množství faktografických údajů o technických parametrech\nkonkrétních lodí a informací nezbytných ke znalosti mořeplavby.
URL:https://www.luxor.cz/blog/akce/krest-knihy-pribehy-moreplavcu--969/
LOCATION:Palác knih Luxor\, Václavské náměstí 820/41\, Praha 1\, 11000\, Česká republika
ORGANIZER;CN="Luxor":MAILTO:info@luxor.cz
END:VEVENT
END:VCALENDAR