BEGIN:VCALENDAR
VERSION:2.0
PRODID:-//Blog knihkupectví Luxor - ECPv6.15.20//NONSGML v1.0//EN
CALSCALE:GREGORIAN
METHOD:PUBLISH
X-WR-CALNAME:Blog knihkupectví Luxor
X-ORIGINAL-URL:https://www.luxor.cz/blog
X-WR-CALDESC:Akce na Blog knihkupectví Luxor
REFRESH-INTERVAL;VALUE=DURATION:PT1H
X-Robots-Tag:noindex
X-PUBLISHED-TTL:PT1H
BEGIN:VTIMEZONE
TZID:Europe/Prague
BEGIN:DAYLIGHT
TZOFFSETFROM:+0100
TZOFFSETTO:+0200
TZNAME:CEST
DTSTART:20160327T010000
END:DAYLIGHT
BEGIN:STANDARD
TZOFFSETFROM:+0200
TZOFFSETTO:+0100
TZNAME:CET
DTSTART:20161030T010000
END:STANDARD
BEGIN:DAYLIGHT
TZOFFSETFROM:+0100
TZOFFSETTO:+0200
TZNAME:CEST
DTSTART:20170326T010000
END:DAYLIGHT
BEGIN:STANDARD
TZOFFSETFROM:+0200
TZOFFSETTO:+0100
TZNAME:CET
DTSTART:20171029T010000
END:STANDARD
BEGIN:DAYLIGHT
TZOFFSETFROM:+0100
TZOFFSETTO:+0200
TZNAME:CEST
DTSTART:20180325T010000
END:DAYLIGHT
BEGIN:STANDARD
TZOFFSETFROM:+0200
TZOFFSETTO:+0100
TZNAME:CET
DTSTART:20181028T010000
END:STANDARD
END:VTIMEZONE
BEGIN:VEVENT
DTSTART;TZID=Europe/Prague:20171003T183000
DTEND;TZID=Europe/Prague:20171003T183000
DTSTAMP:20260423T233645
CREATED:20190831T151928Z
LAST-MODIFIED:20190831T151929Z
UID:1485-1507055400-1507055400@www.luxor.cz
SUMMARY:Křest knihy Profesor na frontové linii Petra Fialy
DESCRIPTION:Profesor na frontové linii – Rozhovor Miroslava Balaštíka s Petrem Fialou. \n„Protože štítit se politiky ničemu nepomůže a protože je\ndůležitější pochopit to\, s čím třebas i nesouhlasíme\, než se utvrzovat v tom\,\nco si sami myslíme. (M. B.) \nO dětství\, kde se vzpomínalo na první republiku a obědvalo\npřesně v poledne. O tom\, kdy člověk dospěje a za jakou cenu. O zakázaném\nstudentském časopise a univerzitě povrchní i podzemní. O tom\, proč na komunismu\na normalizaci není vůbec nic dobrého\, ale Husák je zajímavější než Dubček. O\nsvobodě v listopadu 1989 získané a postupně ztrácené a co přinesli a odnesli\nVáclav Havel a Václav Klaus. O tom\, že kauza Nagyová znamená konec jedné epochy\na jak to bylo a je s ODS. O nesvobodě\, do níž se dobrovolně řítíme\, a proč je\nnutné připravovat válku\, když chceme uchránit mír. O tom\, že brexit je šance a\nTrump může být naděje. A že politika má smysl\, pokud člověk zůstane sám sebou.
URL:https://www.luxor.cz/blog/akce/krest-knihy-profesor-na-frontove-linii-petra-fialy--967/
LOCATION:Palác knih Luxor\, Václavské náměstí 820/41\, Praha 1\, 11000\, Česká republika
ORGANIZER;CN="Luxor":MAILTO:info@luxor.cz
END:VEVENT
END:VCALENDAR