BEGIN:VCALENDAR
VERSION:2.0
PRODID:-//Blog knihkupectví Luxor - ECPv6.15.20//NONSGML v1.0//EN
CALSCALE:GREGORIAN
METHOD:PUBLISH
X-ORIGINAL-URL:https://www.luxor.cz/blog
X-WR-CALDESC:Akce na Blog knihkupectví Luxor
REFRESH-INTERVAL;VALUE=DURATION:PT1H
X-Robots-Tag:noindex
X-PUBLISHED-TTL:PT1H
BEGIN:VTIMEZONE
TZID:Europe/Prague
BEGIN:DAYLIGHT
TZOFFSETFROM:+0100
TZOFFSETTO:+0200
TZNAME:CEST
DTSTART:20160327T010000
END:DAYLIGHT
BEGIN:STANDARD
TZOFFSETFROM:+0200
TZOFFSETTO:+0100
TZNAME:CET
DTSTART:20161030T010000
END:STANDARD
BEGIN:DAYLIGHT
TZOFFSETFROM:+0100
TZOFFSETTO:+0200
TZNAME:CEST
DTSTART:20170326T010000
END:DAYLIGHT
BEGIN:STANDARD
TZOFFSETFROM:+0200
TZOFFSETTO:+0100
TZNAME:CET
DTSTART:20171029T010000
END:STANDARD
BEGIN:DAYLIGHT
TZOFFSETFROM:+0100
TZOFFSETTO:+0200
TZNAME:CEST
DTSTART:20180325T010000
END:DAYLIGHT
BEGIN:STANDARD
TZOFFSETFROM:+0200
TZOFFSETTO:+0100
TZNAME:CET
DTSTART:20181028T010000
END:STANDARD
END:VTIMEZONE
BEGIN:VEVENT
DTSTART;TZID=Europe/Prague:20171002T150000
DTEND;TZID=Europe/Prague:20171002T150000
DTSTAMP:20260423T233643
CREATED:20190831T151928Z
LAST-MODIFIED:20190831T151929Z
UID:1482-1506956400-1506956400@www.luxor.cz
SUMMARY:Theodora Remundová pokřtí Dobrodružství pana Kolečka
DESCRIPTION:Neobvyklá trojice nerozlučných kamarádů vás naučí\, že veteráni nepatří do starého železa\, že nemít jednu nohu není překážka a že s věrnými kamarády a láskou\, která nerezaví\, doj(e)dete nejdál. \n \nVýtvarně jedinečná a bohatě ilustrovaná knížka\, jejíž kulisu vytvořila místa známá i polozapomenutá\, zaujme dětské hlavičky a přitom jen tak mimochodem poučí – dost možná\, že se něco nového dozvědí i rodiče. Tak schválně\, víte\, proč se Bílá hora jmenuje Bílá a kde se vzala Divoká Šárka? \nPříběhy\, které vznikly z lásky k blízkému místu a k jednomu chlapečkovi\, který nemohl usnout bez pohádky\, jsou nerozlučně spjaté s vtipnými ilustracemi Jana Laštovičky. 
URL:https://www.luxor.cz/blog/akce/theodora-remundova-pokrti-dobrodruzstvi-pana-kolecka--964/
LOCATION:Palác knih Luxor\, Václavské náměstí 820/41\, Praha 1\, 11000\, Česká republika
ORGANIZER;CN="Luxor":MAILTO:info@luxor.cz
END:VEVENT
BEGIN:VEVENT
DTSTART;TZID=Europe/Prague:20171002T170000
DTEND;TZID=Europe/Prague:20171002T170000
DTSTAMP:20260423T233643
CREATED:20190831T151928Z
LAST-MODIFIED:20190831T151929Z
UID:1483-1506963600-1506963600@www.luxor.cz
SUMMARY:Křest knihy Lymfotaping a Terapeutické využití tejpování
DESCRIPTION:
URL:https://www.luxor.cz/blog/akce/krest-knihy-lymfotaping-a-terapeuticke-vyuziti-tejpovani--965/
LOCATION:Palác knih Luxor\, Václavské náměstí 820/41\, Praha 1\, 11000\, Česká republika
ORGANIZER;CN="Luxor":MAILTO:info@luxor.cz
END:VEVENT
END:VCALENDAR