BEGIN:VCALENDAR
VERSION:2.0
PRODID:-//Blog knihkupectví Luxor - ECPv6.15.20//NONSGML v1.0//EN
CALSCALE:GREGORIAN
METHOD:PUBLISH
X-WR-CALNAME:Blog knihkupectví Luxor
X-ORIGINAL-URL:https://www.luxor.cz/blog
X-WR-CALDESC:Akce na Blog knihkupectví Luxor
REFRESH-INTERVAL;VALUE=DURATION:PT1H
X-Robots-Tag:noindex
X-PUBLISHED-TTL:PT1H
BEGIN:VTIMEZONE
TZID:Europe/Prague
BEGIN:DAYLIGHT
TZOFFSETFROM:+0100
TZOFFSETTO:+0200
TZNAME:CEST
DTSTART:20160327T010000
END:DAYLIGHT
BEGIN:STANDARD
TZOFFSETFROM:+0200
TZOFFSETTO:+0100
TZNAME:CET
DTSTART:20161030T010000
END:STANDARD
BEGIN:DAYLIGHT
TZOFFSETFROM:+0100
TZOFFSETTO:+0200
TZNAME:CEST
DTSTART:20170326T010000
END:DAYLIGHT
BEGIN:STANDARD
TZOFFSETFROM:+0200
TZOFFSETTO:+0100
TZNAME:CET
DTSTART:20171029T010000
END:STANDARD
BEGIN:DAYLIGHT
TZOFFSETFROM:+0100
TZOFFSETTO:+0200
TZNAME:CEST
DTSTART:20180325T010000
END:DAYLIGHT
BEGIN:STANDARD
TZOFFSETFROM:+0200
TZOFFSETTO:+0100
TZNAME:CET
DTSTART:20181028T010000
END:STANDARD
END:VTIMEZONE
BEGIN:VEVENT
DTSTART;TZID=Europe/Prague:20171001T101200
DTEND;TZID=Europe/Prague:20171001T101200
DTSTAMP:20260423T233613
CREATED:20190831T151942Z
LAST-MODIFIED:20190831T151943Z
UID:1524-1506852720-1506852720@www.luxor.cz
SUMMARY:Víkend babiček a dědečků
DESCRIPTION:Víte\, že 1.10. je Mezinárodní den seniorů? V Neoluxoru jsme se rozhodli tento den oslavit a připravili jsme pro vás Víkend babiček a dědečků. V pátek 29. 9. ho odstartuje Taťána Gregor Brzobohatá křtem „Nejmilejšího kalendáře pro babičku a dědu“.  Po celý víkend od 29. 9. do 1. 10. si navíc ve všech kamenných knihkupectvích Neoluxor můžete nakoupit knížky s 20% slevou.  \nSleva se vztahuje na nákup knih nad 399 Kč.  \nSleva se nevztahuje na nákup učebnic a na nákup na pokladnách Knižního klubu. 
URL:https://www.luxor.cz/blog/akce/vikend-babicek-a-dedecku--986/
ORGANIZER;CN="Luxor":MAILTO:info@luxor.cz
END:VEVENT
END:VCALENDAR