BEGIN:VCALENDAR
VERSION:2.0
PRODID:-//Blog knihkupectví Luxor - ECPv6.15.20//NONSGML v1.0//EN
CALSCALE:GREGORIAN
METHOD:PUBLISH
X-WR-CALNAME:Blog knihkupectví Luxor
X-ORIGINAL-URL:https://www.luxor.cz/blog
X-WR-CALDESC:Akce na Blog knihkupectví Luxor
REFRESH-INTERVAL;VALUE=DURATION:PT1H
X-Robots-Tag:noindex
X-PUBLISHED-TTL:PT1H
BEGIN:VTIMEZONE
TZID:Europe/Prague
BEGIN:DAYLIGHT
TZOFFSETFROM:+0100
TZOFFSETTO:+0200
TZNAME:CEST
DTSTART:20160327T010000
END:DAYLIGHT
BEGIN:STANDARD
TZOFFSETFROM:+0200
TZOFFSETTO:+0100
TZNAME:CET
DTSTART:20161030T010000
END:STANDARD
BEGIN:DAYLIGHT
TZOFFSETFROM:+0100
TZOFFSETTO:+0200
TZNAME:CEST
DTSTART:20170326T010000
END:DAYLIGHT
BEGIN:STANDARD
TZOFFSETFROM:+0200
TZOFFSETTO:+0100
TZNAME:CET
DTSTART:20171029T010000
END:STANDARD
BEGIN:DAYLIGHT
TZOFFSETFROM:+0100
TZOFFSETTO:+0200
TZNAME:CEST
DTSTART:20180325T010000
END:DAYLIGHT
BEGIN:STANDARD
TZOFFSETFROM:+0200
TZOFFSETTO:+0100
TZNAME:CET
DTSTART:20181028T010000
END:STANDARD
END:VTIMEZONE
BEGIN:VEVENT
DTSTART;TZID=Europe/Prague:20170930T230000
DTEND;TZID=Europe/Prague:20170930T230000
DTSTAMP:20260423T233644
CREATED:20190831T151920Z
LAST-MODIFIED:20190831T151920Z
UID:1462-1506812400-1506812400@www.luxor.cz
SUMMARY:1+1 Na křídlech příběhů od YOLI
DESCRIPTION:V měsíci září proběhne akce Na křídlech příběhůYoung adult od nakladatelství YOLI – 1+1 zdarma. Při nákupu 2 knih\nobdržíte tu levnější zdarma. Pokud si vyberete více knih v sudém\npočtu\, každou druhou (levnější) budete mít zdarma.  \n \n\nslevy se nesčítají – nelze kombinovat s\njinými akcemi\nakce platí na\npokladnách Knižního klubu\nplatí do 30. 9. nebo do vyprodání zásob
URL:https://www.luxor.cz/blog/akce/11-na-kridlech-pribehu-od-yoli/
ORGANIZER;CN="Luxor":MAILTO:info@luxor.cz
END:VEVENT
BEGIN:VEVENT
DTSTART;TZID=Europe/Prague:20170930T230000
DTEND;TZID=Europe/Prague:20170930T230000
DTSTAMP:20260423T233644
CREATED:20190831T151922Z
LAST-MODIFIED:20190831T151922Z
UID:1467-1506812400-1506812400@www.luxor.cz
SUMMARY:1+1 Na křídlech příběhů od YOLI
DESCRIPTION:V měsíci září proběhne akce Na křídlech příběhůYoung adult od nakladatelství YOLI – 1+1 zdarma. Při nákupu 2 knih\nobdržíte tu levnější zdarma. Pokud si vyberete více knih v sudém\npočtu\, každou druhou (levnější) budete mít zdarma.  \n \n\nslevy se nesčítají – nelze kombinovat s\njinými akcemi\nakce platí na\npokladnách Knižního klubu\nplatí do 30. 9. nebo do vyprodání zásob
URL:https://www.luxor.cz/blog/akce/11-na-kridlech-pribehu-od-yoli-2/
ORGANIZER;CN="Luxor":MAILTO:info@luxor.cz
END:VEVENT
END:VCALENDAR