BEGIN:VCALENDAR
VERSION:2.0
PRODID:-//Blog knihkupectví Luxor - ECPv6.15.20//NONSGML v1.0//EN
CALSCALE:GREGORIAN
METHOD:PUBLISH
X-WR-CALNAME:Blog knihkupectví Luxor
X-ORIGINAL-URL:https://www.luxor.cz/blog
X-WR-CALDESC:Akce na Blog knihkupectví Luxor
REFRESH-INTERVAL;VALUE=DURATION:PT1H
X-Robots-Tag:noindex
X-PUBLISHED-TTL:PT1H
BEGIN:VTIMEZONE
TZID:Europe/Prague
BEGIN:DAYLIGHT
TZOFFSETFROM:+0100
TZOFFSETTO:+0200
TZNAME:CEST
DTSTART:20160327T010000
END:DAYLIGHT
BEGIN:STANDARD
TZOFFSETFROM:+0200
TZOFFSETTO:+0100
TZNAME:CET
DTSTART:20161030T010000
END:STANDARD
BEGIN:DAYLIGHT
TZOFFSETFROM:+0100
TZOFFSETTO:+0200
TZNAME:CEST
DTSTART:20170326T010000
END:DAYLIGHT
BEGIN:STANDARD
TZOFFSETFROM:+0200
TZOFFSETTO:+0100
TZNAME:CET
DTSTART:20171029T010000
END:STANDARD
BEGIN:DAYLIGHT
TZOFFSETFROM:+0100
TZOFFSETTO:+0200
TZNAME:CEST
DTSTART:20180325T010000
END:DAYLIGHT
BEGIN:STANDARD
TZOFFSETFROM:+0200
TZOFFSETTO:+0100
TZNAME:CET
DTSTART:20181028T010000
END:STANDARD
END:VTIMEZONE
BEGIN:VEVENT
DTSTART;TZID=Europe/Prague:20170926T160000
DTEND;TZID=Europe/Prague:20170926T160000
DTSTAMP:20260423T233644
CREATED:20190831T151918Z
LAST-MODIFIED:20190831T151918Z
UID:1459-1506441600-1506441600@www.luxor.cz
SUMMARY:Křest knihy pro děti Jdeme do školy manželů Hladkých
DESCRIPTION:Znáte vílu Mimi? Tahle půvabná a chytrá bytůstka vypadá jako obyčejná holčička\, dokáže ale neobyčejné věci. Jestli si děláte starosti kvůli škole podobně jako školačka Aurélie z téhle knížky\, je pro vás Mimi od Hostavického potoka ten správný pomocník. Dobrosrdečná víla svolá všechna zvířátka ze své louky a společně s nimi připraví pro Aurélii to nejhravější nejzajímavější vyučování. Knížka pro začínající čtenáře vychází s předmluvou Jitky Molavcové.
URL:https://www.luxor.cz/blog/akce/krest-knihy-pro-deti-jdeme-do-skoly-manzelu-hladkych--951/
LOCATION:Palác knih Luxor\, Václavské náměstí 820/41\, Praha 1\, 11000\, Česká republika
ORGANIZER;CN="Luxor":MAILTO:info@luxor.cz
END:VEVENT
BEGIN:VEVENT
DTSTART;TZID=Europe/Prague:20170926T180000
DTEND;TZID=Europe/Prague:20170926T180000
DTSTAMP:20260423T233644
CREATED:20190831T151918Z
LAST-MODIFIED:20190831T151918Z
UID:1460-1506448800-1506448800@www.luxor.cz
SUMMARY:Autogramiáda Roberta Fulghuma
DESCRIPTION:George Novak přijede do Prahy\, aby pátral po svých českých kořenech. Nakonec ale zjistí\, že vlastně hledá odpověď na jinou otázku: Kdo jsem? Kdo si myslím\, že jsem? A kdo je Vera\, sousedka a přítelkyně plná pochopení\, ale i tajemství? Georgeovi v jeho hledání nejvíc pomáhají nová setkání – s trochu záhadnou mladou ženou Luci Milenou nebo s bytostí\, která mu předloží naprosto nečekanou nabídku. V hospodě U Devíti draků a ovce\, místě pro rozhovory\, otázky a odpovědi přímo stvořeném\, najde pak nejedna zápletka rozřešení.
URL:https://www.luxor.cz/blog/akce/autogramiada-roberta-fulghuma-3/
LOCATION:Palác knih Luxor\, Václavské náměstí 820/41\, Praha 1\, 11000\, Česká republika
ORGANIZER;CN="Luxor":MAILTO:info@luxor.cz
END:VEVENT
END:VCALENDAR