BEGIN:VCALENDAR
VERSION:2.0
PRODID:-//Blog knihkupectví Luxor - ECPv6.15.20//NONSGML v1.0//EN
CALSCALE:GREGORIAN
METHOD:PUBLISH
X-WR-CALNAME:Blog knihkupectví Luxor
X-ORIGINAL-URL:https://www.luxor.cz/blog
X-WR-CALDESC:Akce na Blog knihkupectví Luxor
REFRESH-INTERVAL;VALUE=DURATION:PT1H
X-Robots-Tag:noindex
X-PUBLISHED-TTL:PT1H
BEGIN:VTIMEZONE
TZID:Europe/Prague
BEGIN:DAYLIGHT
TZOFFSETFROM:+0100
TZOFFSETTO:+0200
TZNAME:CEST
DTSTART:20160327T010000
END:DAYLIGHT
BEGIN:STANDARD
TZOFFSETFROM:+0200
TZOFFSETTO:+0100
TZNAME:CET
DTSTART:20161030T010000
END:STANDARD
BEGIN:DAYLIGHT
TZOFFSETFROM:+0100
TZOFFSETTO:+0200
TZNAME:CEST
DTSTART:20170326T010000
END:DAYLIGHT
BEGIN:STANDARD
TZOFFSETFROM:+0200
TZOFFSETTO:+0100
TZNAME:CET
DTSTART:20171029T010000
END:STANDARD
BEGIN:DAYLIGHT
TZOFFSETFROM:+0100
TZOFFSETTO:+0200
TZNAME:CEST
DTSTART:20180325T010000
END:DAYLIGHT
BEGIN:STANDARD
TZOFFSETFROM:+0200
TZOFFSETTO:+0100
TZNAME:CET
DTSTART:20181028T010000
END:STANDARD
END:VTIMEZONE
BEGIN:VEVENT
DTSTART;TZID=Europe/Prague:20170923T102900
DTEND;TZID=Europe/Prague:20170923T102900
DTSTAMP:20260424T005101
CREATED:20190831T151921Z
LAST-MODIFIED:20190831T151922Z
UID:1464-1506162540-1506162540@www.luxor.cz
SUMMARY:Batman Day
DESCRIPTION:Přijďte 23. září k nám do knihkupectví Neoluxor oslavit 4. mezinárodní Batman Day a odneste si vybrané batmanovské komiksy se slevou 25%! \nDorazit můžete také na průvod cosplayerů! Sraz bude od 9:30 v Paláci knih Luxor v Praze na Václavském náměstí\, kde proběhne focení. V 10:45 průvod zamíří do Comics Pointu v Anglické ulici. Budeme se těšit na všechny účastníky i diváky! (V případě nepříznivého počasí se průvod konat nebude.) \n \n \n \n\nnelze sčítat s jinými slevami\nakce platí pouze na prodejnách\nnelze uplatnit při nákupu v e-shopu\nplatí pouze 23. září a to do vyprodání zásob
URL:https://www.luxor.cz/blog/akce/batman-day--956/
ORGANIZER;CN="Luxor":MAILTO:info@luxor.cz
END:VEVENT
END:VCALENDAR