BEGIN:VCALENDAR
VERSION:2.0
PRODID:-//Blog knihkupectví Luxor - ECPv6.15.20//NONSGML v1.0//EN
CALSCALE:GREGORIAN
METHOD:PUBLISH
X-WR-CALNAME:Blog knihkupectví Luxor
X-ORIGINAL-URL:https://www.luxor.cz/blog
X-WR-CALDESC:Akce na Blog knihkupectví Luxor
REFRESH-INTERVAL;VALUE=DURATION:PT1H
X-Robots-Tag:noindex
X-PUBLISHED-TTL:PT1H
BEGIN:VTIMEZONE
TZID:Europe/Prague
BEGIN:DAYLIGHT
TZOFFSETFROM:+0100
TZOFFSETTO:+0200
TZNAME:CEST
DTSTART:20160327T010000
END:DAYLIGHT
BEGIN:STANDARD
TZOFFSETFROM:+0200
TZOFFSETTO:+0100
TZNAME:CET
DTSTART:20161030T010000
END:STANDARD
BEGIN:DAYLIGHT
TZOFFSETFROM:+0100
TZOFFSETTO:+0200
TZNAME:CEST
DTSTART:20170326T010000
END:DAYLIGHT
BEGIN:STANDARD
TZOFFSETFROM:+0200
TZOFFSETTO:+0100
TZNAME:CET
DTSTART:20171029T010000
END:STANDARD
BEGIN:DAYLIGHT
TZOFFSETFROM:+0100
TZOFFSETTO:+0200
TZNAME:CEST
DTSTART:20180325T010000
END:DAYLIGHT
BEGIN:STANDARD
TZOFFSETFROM:+0200
TZOFFSETTO:+0100
TZNAME:CET
DTSTART:20181028T010000
END:STANDARD
END:VTIMEZONE
BEGIN:VEVENT
DTSTART;TZID=Europe/Prague:20170920T170000
DTEND;TZID=Europe/Prague:20170920T170000
DTSTAMP:20260424T005038
CREATED:20190831T151916Z
LAST-MODIFIED:20190831T151917Z
UID:1450-1505926800-1505926800@www.luxor.cz
SUMMARY:Křest Deníku věčné dietářky Patricie Janečkové
DESCRIPTION:Držet redukční dietu se alespoň jednou ve svém životě rozhodla\, nebo byla dohnaná\, snad každá žena. Pokud to s hubnutím myslíte opravdu vážně\, bude zapotřebí zapisovat si vše\, co sníte a vypijete\, a také vykazovat nějakou pohybovou aktivitu. Pro tento účel byl sestaven přehledný deník s tabulkami a místem pro všechny poznámky spojené s redukcí. Aby hubnutí nebylo jen nekonečným utrpením\, provede vás spolutrpící žena svými krátkými příběhy\, v nichž s humorem a upřímností vylíčí svoje prohry i vítězství a předá nabyté zkušenosti s odtučňováním. Cizí zápas s nadbytečným tukem jistě povzbudí a cesta k vysněné hmotnosti  pak jistě bude snazší a zábavnější.Úvod napsala Laďka Něgrešová.
URL:https://www.luxor.cz/blog/akce/krest-deniku-vecne-dietarky-patricie-janeckove--947/
LOCATION:Palác knih Luxor\, Václavské náměstí 820/41\, Praha 1\, 11000\, Česká republika
ORGANIZER;CN="Luxor":MAILTO:info@luxor.cz
END:VEVENT
BEGIN:VEVENT
DTSTART;TZID=Europe/Prague:20170920T170000
DTEND;TZID=Europe/Prague:20170920T170000
DTSTAMP:20260424T005038
CREATED:20190831T151924Z
LAST-MODIFIED:20190831T151926Z
UID:1473-1505926800-1505926800@www.luxor.cz
SUMMARY:Autogramiáda Martina Škody v Luxoru v OC  Chodov
DESCRIPTION:První kuchařka sedmnáctiletého Martina Škody\, českého Jamieho Olivera\, je plná skvělých receptů\, fotografií\, rad a tipů\, k nimž se autor postupem času vlastními zkušenostmi dopracoval\, a také hudby. Mladý autor napsal kuchařku pro své vrstevníky s ohledem na jejich potřeby\, možnosti i přání. Ale vlastně nejen pro ně! Knížka jistě zaujme všechny milovníky kvalitního a nápaditého jídla. \nDruhá kniha Martinovi vychází v jeho 22 a je stejně originální a nekonvenční jako autor sám. Škoda nevařit 2 – Kuchařka plná akce představuje dvacet nadupaných kapitol\, kdy každá kapitola znázorňuje jednu konkrétní akci s jídlem v hlavní roli. AKCE\, pestrost receptů\, dostupnost surovin a variace příležitostí i prostředí\, to jsou hlavní atributy zbrusu nové kuchařky\, jejímž speciálním hostem se stal známý kuchař Marcel Ihnačák\, který spolu s Martinem v jedné z kapitol uvařil své oblíbené recepty.
URL:https://www.luxor.cz/blog/akce/autogramiada-martina-skody-v-luxor-v-oc-chodov--960/
LOCATION:Knihkupectví Chodov\, Centrum Chodov\, Praha 4\, 14000\, Česká republika
ORGANIZER;CN="Luxor":MAILTO:info@luxor.cz
END:VEVENT
END:VCALENDAR