BEGIN:VCALENDAR
VERSION:2.0
PRODID:-//Blog knihkupectví Luxor - ECPv6.15.20//NONSGML v1.0//EN
CALSCALE:GREGORIAN
METHOD:PUBLISH
X-WR-CALNAME:Blog knihkupectví Luxor
X-ORIGINAL-URL:https://www.luxor.cz/blog
X-WR-CALDESC:Akce na Blog knihkupectví Luxor
REFRESH-INTERVAL;VALUE=DURATION:PT1H
X-Robots-Tag:noindex
X-PUBLISHED-TTL:PT1H
BEGIN:VTIMEZONE
TZID:Europe/Prague
BEGIN:DAYLIGHT
TZOFFSETFROM:+0100
TZOFFSETTO:+0200
TZNAME:CEST
DTSTART:20160327T010000
END:DAYLIGHT
BEGIN:STANDARD
TZOFFSETFROM:+0200
TZOFFSETTO:+0100
TZNAME:CET
DTSTART:20161030T010000
END:STANDARD
BEGIN:DAYLIGHT
TZOFFSETFROM:+0100
TZOFFSETTO:+0200
TZNAME:CEST
DTSTART:20170326T010000
END:DAYLIGHT
BEGIN:STANDARD
TZOFFSETFROM:+0200
TZOFFSETTO:+0100
TZNAME:CET
DTSTART:20171029T010000
END:STANDARD
BEGIN:DAYLIGHT
TZOFFSETFROM:+0100
TZOFFSETTO:+0200
TZNAME:CEST
DTSTART:20180325T010000
END:DAYLIGHT
BEGIN:STANDARD
TZOFFSETFROM:+0200
TZOFFSETTO:+0100
TZNAME:CET
DTSTART:20181028T010000
END:STANDARD
END:VTIMEZONE
BEGIN:VEVENT
DTSTART;TZID=Europe/Prague:20170919T163000
DTEND;TZID=Europe/Prague:20170919T163000
DTSTAMP:20260424T005101
CREATED:20190831T151915Z
LAST-MODIFIED:20190831T151917Z
UID:1448-1505838600-1505838600@www.luxor.cz
SUMMARY:Autogramiáda dětské knihy Střevíček Škrpálek Petry Svobody
DESCRIPTION:Dobrodružný pohádkový příběh pro děti je knižním debutemoblíbené televizní moderátorky. Malá Ráchel objeví ve starých botičkách nejen\nvěrné společníky\, ale doslova rodinný poklad. Staré škrpálky dostanou Ráchel z\nkaždého nebezpečí a naučí ji spoustu důležitých věcí. Kniha psaná původně pro\nautorčinu dceru je prodchnuta láskou k rodině a zdobí ji originální tušové\nilustrace úspěšné výtvarnice a ilustrátorky Zuzany Osako.
URL:https://www.luxor.cz/blog/akce/autogramiada-detske-knihy-strevicek-skrpalek-petry-svobody--945/
LOCATION:Palác knih Luxor\, Václavské náměstí 820/41\, Praha 1\, 11000\, Česká republika
ORGANIZER;CN="Luxor":MAILTO:info@luxor.cz
END:VEVENT
BEGIN:VEVENT
DTSTART;TZID=Europe/Prague:20170919T180000
DTEND;TZID=Europe/Prague:20170919T180000
DTSTAMP:20260424T005101
CREATED:20190831T151915Z
LAST-MODIFIED:20190831T151917Z
UID:1449-1505844000-1505844000@www.luxor.cz
SUMMARY:Autogramiáda Dary Rolins v Luxoru v OC Chodov
DESCRIPTION:
URL:https://www.luxor.cz/blog/akce/autogramiada-dary-rolins-v-luxoru-v-oc-chodov--946/
LOCATION:Knihkupectví Chodov\, Centrum Chodov\, Praha 4\, 14000\, Česká republika
ORGANIZER;CN="Luxor":MAILTO:info@luxor.cz
END:VEVENT
END:VCALENDAR