BEGIN:VCALENDAR
VERSION:2.0
PRODID:-//Blog knihkupectví Luxor - ECPv6.15.20//NONSGML v1.0//EN
CALSCALE:GREGORIAN
METHOD:PUBLISH
X-ORIGINAL-URL:https://www.luxor.cz/blog
X-WR-CALDESC:Akce na Blog knihkupectví Luxor
REFRESH-INTERVAL;VALUE=DURATION:PT1H
X-Robots-Tag:noindex
X-PUBLISHED-TTL:PT1H
BEGIN:VTIMEZONE
TZID:Europe/Prague
BEGIN:DAYLIGHT
TZOFFSETFROM:+0100
TZOFFSETTO:+0200
TZNAME:CEST
DTSTART:20160327T010000
END:DAYLIGHT
BEGIN:STANDARD
TZOFFSETFROM:+0200
TZOFFSETTO:+0100
TZNAME:CET
DTSTART:20161030T010000
END:STANDARD
BEGIN:DAYLIGHT
TZOFFSETFROM:+0100
TZOFFSETTO:+0200
TZNAME:CEST
DTSTART:20170326T010000
END:DAYLIGHT
BEGIN:STANDARD
TZOFFSETFROM:+0200
TZOFFSETTO:+0100
TZNAME:CET
DTSTART:20171029T010000
END:STANDARD
BEGIN:DAYLIGHT
TZOFFSETFROM:+0100
TZOFFSETTO:+0200
TZNAME:CEST
DTSTART:20180325T010000
END:DAYLIGHT
BEGIN:STANDARD
TZOFFSETFROM:+0200
TZOFFSETTO:+0100
TZNAME:CET
DTSTART:20181028T010000
END:STANDARD
END:VTIMEZONE
BEGIN:VEVENT
DTSTART;TZID=Europe/Prague:20170910T092700
DTEND;TZID=Europe/Prague:20170910T092700
DTSTAMP:20260424T005058
CREATED:20190831T151921Z
LAST-MODIFIED:20190831T151922Z
UID:1463-1505035620-1505035620@www.luxor.cz
SUMMARY:Manga víkend
DESCRIPTION:Ve dnech 8. – 10. září proběhne na všech pobočkách knihkupetcví Neoluxor Mangavíkend – akce na japonské komiksy. Událost probíhá ve spolupráci s nakladatelstvím Crew\, na jejich vybrané tituly tak platí v tyto dny speciální sleva až 50%. Další\ndíly z dané série u nás pak pořídíte se slevou 20%. Těšíme se na vás! \n \n\nnelze kombinovat s jinými slevami\nplatí pouze na\nkamenných prodejnách\nnelze uplatnit v e-shopu\nakce platí do 10. září nebo do vyprodání zásob
URL:https://www.luxor.cz/blog/akce/manga-vikend--955/
ORGANIZER;CN="Luxor":MAILTO:info@luxor.cz
END:VEVENT
END:VCALENDAR