BEGIN:VCALENDAR
VERSION:2.0
PRODID:-//Blog knihkupectví Luxor - ECPv6.15.20//NONSGML v1.0//EN
CALSCALE:GREGORIAN
METHOD:PUBLISH
X-WR-CALNAME:Blog knihkupectví Luxor
X-ORIGINAL-URL:https://www.luxor.cz/blog
X-WR-CALDESC:Akce na Blog knihkupectví Luxor
REFRESH-INTERVAL;VALUE=DURATION:PT1H
X-Robots-Tag:noindex
X-PUBLISHED-TTL:PT1H
BEGIN:VTIMEZONE
TZID:Europe/Prague
BEGIN:DAYLIGHT
TZOFFSETFROM:+0100
TZOFFSETTO:+0200
TZNAME:CEST
DTSTART:20160327T010000
END:DAYLIGHT
BEGIN:STANDARD
TZOFFSETFROM:+0200
TZOFFSETTO:+0100
TZNAME:CET
DTSTART:20161030T010000
END:STANDARD
BEGIN:DAYLIGHT
TZOFFSETFROM:+0100
TZOFFSETTO:+0200
TZNAME:CEST
DTSTART:20170326T010000
END:DAYLIGHT
BEGIN:STANDARD
TZOFFSETFROM:+0200
TZOFFSETTO:+0100
TZNAME:CET
DTSTART:20171029T010000
END:STANDARD
BEGIN:DAYLIGHT
TZOFFSETFROM:+0100
TZOFFSETTO:+0200
TZNAME:CEST
DTSTART:20180325T010000
END:DAYLIGHT
BEGIN:STANDARD
TZOFFSETFROM:+0200
TZOFFSETTO:+0100
TZNAME:CET
DTSTART:20181028T010000
END:STANDARD
END:VTIMEZONE
BEGIN:VEVENT
DTSTART;TZID=Europe/Prague:20170906T160000
DTEND;TZID=Europe/Prague:20170906T160000
DTSTAMP:20260424T005039
CREATED:20190831T151909Z
LAST-MODIFIED:20190831T151910Z
UID:1431-1504713600-1504713600@www.luxor.cz
SUMMARY:Autogramiáda Filipa Komorouse ke knize Sportovní pohádky
DESCRIPTION:Originální vtipná knížka bohatě ilustrovaná osobitým stylemv krásném naivním duchu více než 70 kresbami od Hanky Šimonové.  \nSPORTOVNÍ POHÁDKY jsou určené všem\, kteří by rádi věděli\,\nzda se ve sportovním nebi hrají kuličky nebo proč se sudičky rozhodly\, že\nMartinka bude rychlobruslařka. \nPo přečtení pár stránek už nikoho nepřekvapí\, že tuňák\nmiluje fotbal nade vše a Ježíšek stihne o Vánocích navštívit všechny hodné děti\njen díky báječnému skokanovi Jiřímu. \nPojícím prvkem pohádek je snaha na pozadí jednotlivých\npříběhů ukázat sport se svojí základní myšlenkou férového života s určitou\npoetikou. Sport jako jeden ze způsobů\, jak poznat přátelství\, štěstí\, dobro a\nsem tam zažít i nějaký pohádkový zázrak.
URL:https://www.luxor.cz/blog/akce/autogramiada-filipa-komorouse-ke-knize-sportovni-pohadky--938/
LOCATION:Palác knih Luxor\, Václavské náměstí 820/41\, Praha 1\, 11000\, Česká republika
ORGANIZER;CN="Luxor":MAILTO:info@luxor.cz
END:VEVENT
END:VCALENDAR