BEGIN:VCALENDAR
VERSION:2.0
PRODID:-//Blog knihkupectví Luxor - ECPv6.15.20//NONSGML v1.0//EN
CALSCALE:GREGORIAN
METHOD:PUBLISH
X-ORIGINAL-URL:https://www.luxor.cz/blog
X-WR-CALDESC:Akce na Blog knihkupectví Luxor
REFRESH-INTERVAL;VALUE=DURATION:PT1H
X-Robots-Tag:noindex
X-PUBLISHED-TTL:PT1H
BEGIN:VTIMEZONE
TZID:Europe/Prague
BEGIN:DAYLIGHT
TZOFFSETFROM:+0100
TZOFFSETTO:+0200
TZNAME:CEST
DTSTART:20160327T010000
END:DAYLIGHT
BEGIN:STANDARD
TZOFFSETFROM:+0200
TZOFFSETTO:+0100
TZNAME:CET
DTSTART:20161030T010000
END:STANDARD
BEGIN:DAYLIGHT
TZOFFSETFROM:+0100
TZOFFSETTO:+0200
TZNAME:CEST
DTSTART:20170326T010000
END:DAYLIGHT
BEGIN:STANDARD
TZOFFSETFROM:+0200
TZOFFSETTO:+0100
TZNAME:CET
DTSTART:20171029T010000
END:STANDARD
BEGIN:DAYLIGHT
TZOFFSETFROM:+0100
TZOFFSETTO:+0200
TZNAME:CEST
DTSTART:20180325T010000
END:DAYLIGHT
BEGIN:STANDARD
TZOFFSETFROM:+0200
TZOFFSETTO:+0100
TZNAME:CET
DTSTART:20181028T010000
END:STANDARD
END:VTIMEZONE
BEGIN:VEVENT
DTSTART;TZID=Europe/Prague:20170831T155700
DTEND;TZID=Europe/Prague:20170831T155700
DTSTAMP:20260424T005100
CREATED:20190831T151905Z
LAST-MODIFIED:20190831T151907Z
UID:1420-1504195020-1504195020@www.luxor.cz
SUMMARY:Letní akce na paperbacky
DESCRIPTION:Vybrané zlevněné knihy najdete ve všech knihkupectvích Neoluxor a také v e-shopu.
URL:https://www.luxor.cz/blog/akce/letni-akce-na-paperbacky--931/
ORGANIZER;CN="Luxor":MAILTO:info@luxor.cz
END:VEVENT
BEGIN:VEVENT
DTSTART;TZID=Europe/Prague:20170831T183900
DTEND;TZID=Europe/Prague:20170831T183900
DTSTAMP:20260424T005100
CREATED:20190831T151906Z
LAST-MODIFIED:20190831T151907Z
UID:1421-1504204740-1504204740@www.luxor.cz
SUMMARY:1+1 Srpen s legendami
DESCRIPTION:Při nákupu 2 knih obdržíte tu levnější zdarma. Pokud si vyberete více knih v sudém počtu\, každou druhou (levnější) budete mít zdarma. \n \n\nslevy se nesčítají – nelze kombinovat s jinými akcemi\nakce platí na pokladnách Knižního klubu\nakce neplatí v e-shopu.\nplatí do 31. srpna nebo do vyprodání zásob
URL:https://www.luxor.cz/blog/akce/1-1-srpen-s-legendami--933/
ORGANIZER;CN="Luxor":MAILTO:info@luxor.cz
END:VEVENT
END:VCALENDAR