BEGIN:VCALENDAR
VERSION:2.0
PRODID:-//Blog knihkupectví Luxor - ECPv6.15.20//NONSGML v1.0//EN
CALSCALE:GREGORIAN
METHOD:PUBLISH
X-ORIGINAL-URL:https://www.luxor.cz/blog
X-WR-CALDESC:Akce na Blog knihkupectví Luxor
REFRESH-INTERVAL;VALUE=DURATION:PT1H
X-Robots-Tag:noindex
X-PUBLISHED-TTL:PT1H
BEGIN:VTIMEZONE
TZID:Europe/Prague
BEGIN:DAYLIGHT
TZOFFSETFROM:+0100
TZOFFSETTO:+0200
TZNAME:CEST
DTSTART:20160327T010000
END:DAYLIGHT
BEGIN:STANDARD
TZOFFSETFROM:+0200
TZOFFSETTO:+0100
TZNAME:CET
DTSTART:20161030T010000
END:STANDARD
BEGIN:DAYLIGHT
TZOFFSETFROM:+0100
TZOFFSETTO:+0200
TZNAME:CEST
DTSTART:20170326T010000
END:DAYLIGHT
BEGIN:STANDARD
TZOFFSETFROM:+0200
TZOFFSETTO:+0100
TZNAME:CET
DTSTART:20171029T010000
END:STANDARD
BEGIN:DAYLIGHT
TZOFFSETFROM:+0100
TZOFFSETTO:+0200
TZNAME:CEST
DTSTART:20180325T010000
END:DAYLIGHT
BEGIN:STANDARD
TZOFFSETFROM:+0200
TZOFFSETTO:+0100
TZNAME:CET
DTSTART:20181028T010000
END:STANDARD
END:VTIMEZONE
BEGIN:VEVENT
DTSTART;TZID=Europe/Prague:20170626T170000
DTEND;TZID=Europe/Prague:20170626T170000
DTSTAMP:20260424T035322
CREATED:20190831T151854Z
LAST-MODIFIED:20190831T151854Z
UID:1392-1498496400-1498496400@www.luxor.cz
SUMMARY:Prezentace knihy Dinosauři v Čechách
DESCRIPTION:Tvorové\, jež obývali naši planetu před mnoha desítkami milionů let\, představují pro mnoho z nás živočichy záhadné\, fascinující a mnohdy až děsivé. Často se s nimi setkáváme ve filmech jako Cesta do pravěku nebo Jurský park\, ale notoricky známí jsou též z obrazů a ilustrací Zdeňka Buriana\, které si oblíbily celé generace dětí i dospělých. Za to\, že tato vyobrazení dinosaurů odpovídají ve velké míře realitě\, vděčíme především výzkumům zkamenělin\, které člověk od pradávna nachází takřka po celém světě. A ač se to mnohým může zdát překvapivé\, Česká republika v tomto ohledu není výjimkou.
URL:https://www.luxor.cz/blog/akce/prezentace-knihy-dinosauri-v-cechach--910/
LOCATION:Palác knih Luxor\, Václavské náměstí 820/41\, Praha 1\, 11000\, Česká republika
ORGANIZER;CN="Luxor":MAILTO:info@luxor.cz
END:VEVENT
END:VCALENDAR