BEGIN:VCALENDAR
VERSION:2.0
PRODID:-//Blog knihkupectví Luxor - ECPv6.15.20//NONSGML v1.0//EN
CALSCALE:GREGORIAN
METHOD:PUBLISH
X-WR-CALNAME:Blog knihkupectví Luxor
X-ORIGINAL-URL:https://www.luxor.cz/blog
X-WR-CALDESC:Akce na Blog knihkupectví Luxor
REFRESH-INTERVAL;VALUE=DURATION:PT1H
X-Robots-Tag:noindex
X-PUBLISHED-TTL:PT1H
BEGIN:VTIMEZONE
TZID:Europe/Prague
BEGIN:DAYLIGHT
TZOFFSETFROM:+0100
TZOFFSETTO:+0200
TZNAME:CEST
DTSTART:20160327T010000
END:DAYLIGHT
BEGIN:STANDARD
TZOFFSETFROM:+0200
TZOFFSETTO:+0100
TZNAME:CET
DTSTART:20161030T010000
END:STANDARD
BEGIN:DAYLIGHT
TZOFFSETFROM:+0100
TZOFFSETTO:+0200
TZNAME:CEST
DTSTART:20170326T010000
END:DAYLIGHT
BEGIN:STANDARD
TZOFFSETFROM:+0200
TZOFFSETTO:+0100
TZNAME:CET
DTSTART:20171029T010000
END:STANDARD
BEGIN:DAYLIGHT
TZOFFSETFROM:+0100
TZOFFSETTO:+0200
TZNAME:CEST
DTSTART:20180325T010000
END:DAYLIGHT
BEGIN:STANDARD
TZOFFSETFROM:+0200
TZOFFSETTO:+0100
TZNAME:CET
DTSTART:20181028T010000
END:STANDARD
END:VTIMEZONE
BEGIN:VEVENT
DTSTART;TZID=Europe/Prague:20170614T160000
DTEND;TZID=Europe/Prague:20170614T160000
DTSTAMP:20260424T052215
CREATED:20190831T151851Z
LAST-MODIFIED:20190831T151852Z
UID:1384-1497456000-1497456000@www.luxor.cz
SUMMARY:Prezentace knihy Božský
DESCRIPTION:Svérázná Britka a suchar z Bostonu: tak rozdílné povahy jako Pippa a Jensen aby pohledal. Ona je pro každou srandu\, on se hroutí pod tíhou odpovědnosti. Řízením osudu se tihle dva setkají na společné dovolené organizované partičkou přátel\, kterou věrné čtenářky znají již z předchozích dílů oblíbené série Božský. Putování po vinicích je pro Pippu\, jež se právě vzpamatovává z nechutného rozchodu\, vítanou příležitostí\, jak na všechno zapomenout. Jensen se výletu účastní tak trochu z donucení a jen doufá\, že vína bude dost\, aby tu nudu přežil.  Nuda se však nekoná. Celý výlet se změní v bláznivý sled událostí a zprvu improvizovaný vztah dvou cizích lidí postupně přeroste v hlubokou vášeň.
URL:https://www.luxor.cz/blog/akce/prezentace-knihy-bozsky--907/
LOCATION:Palác knih Luxor\, Václavské náměstí 820/41\, Praha 1\, 11000\, Česká republika
ORGANIZER;CN="Luxor":MAILTO:info@luxor.cz
END:VEVENT
END:VCALENDAR