BEGIN:VCALENDAR
VERSION:2.0
PRODID:-//Blog knihkupectví Luxor - ECPv6.15.20//NONSGML v1.0//EN
CALSCALE:GREGORIAN
METHOD:PUBLISH
X-WR-CALNAME:Blog knihkupectví Luxor
X-ORIGINAL-URL:https://www.luxor.cz/blog
X-WR-CALDESC:Akce na Blog knihkupectví Luxor
REFRESH-INTERVAL;VALUE=DURATION:PT1H
X-Robots-Tag:noindex
X-PUBLISHED-TTL:PT1H
BEGIN:VTIMEZONE
TZID:Europe/Prague
BEGIN:DAYLIGHT
TZOFFSETFROM:+0100
TZOFFSETTO:+0200
TZNAME:CEST
DTSTART:20160327T010000
END:DAYLIGHT
BEGIN:STANDARD
TZOFFSETFROM:+0200
TZOFFSETTO:+0100
TZNAME:CET
DTSTART:20161030T010000
END:STANDARD
BEGIN:DAYLIGHT
TZOFFSETFROM:+0100
TZOFFSETTO:+0200
TZNAME:CEST
DTSTART:20170326T010000
END:DAYLIGHT
BEGIN:STANDARD
TZOFFSETFROM:+0200
TZOFFSETTO:+0100
TZNAME:CET
DTSTART:20171029T010000
END:STANDARD
BEGIN:DAYLIGHT
TZOFFSETFROM:+0100
TZOFFSETTO:+0200
TZNAME:CEST
DTSTART:20180325T010000
END:DAYLIGHT
BEGIN:STANDARD
TZOFFSETFROM:+0200
TZOFFSETTO:+0100
TZNAME:CET
DTSTART:20181028T010000
END:STANDARD
END:VTIMEZONE
BEGIN:VEVENT
DTSTART;TZID=Europe/Prague:20170613T170000
DTEND;TZID=Europe/Prague:20170613T170000
DTSTAMP:20260424T052345
CREATED:20190831T151855Z
LAST-MODIFIED:20190831T151855Z
UID:1394-1497373200-1497373200@www.luxor.cz
SUMMARY:Křest knihy Afirmace
DESCRIPTION:JanMenděl založil v roce 2010 facebookovou stránku Afirmace (www.facebook.com/Afirmace/)\, na\nkterou každý den vkládá nějaký text k zamyšlení. Během posledních 7 let\nstránka posbírala 40 000 členů a stala se velmi oblíbenou. Pravidelní\nodběratelé afirmací opakovaně prosili autora\, aby své nejlepší afirmace vydal\nknižně. On jejich přání vyhověl a výsledkem je tato krásná dárková kniha plná\ntextů\, které mají sílu vám zlepšit náladu\, poradit či pomoct najít odpovědi na\notázky\, které zrovna řešíte. 
URL:https://www.luxor.cz/blog/akce/krest-knihy-afirmace--912/
LOCATION:Palác knih Luxor\, Václavské náměstí 820/41\, Praha 1\, 11000\, Česká republika
ORGANIZER;CN="Luxor":MAILTO:info@luxor.cz
END:VEVENT
END:VCALENDAR