BEGIN:VCALENDAR
VERSION:2.0
PRODID:-//Blog knihkupectví Luxor - ECPv6.15.20//NONSGML v1.0//EN
CALSCALE:GREGORIAN
METHOD:PUBLISH
X-ORIGINAL-URL:https://www.luxor.cz/blog
X-WR-CALDESC:Akce na Blog knihkupectví Luxor
REFRESH-INTERVAL;VALUE=DURATION:PT1H
X-Robots-Tag:noindex
X-PUBLISHED-TTL:PT1H
BEGIN:VTIMEZONE
TZID:Europe/Prague
BEGIN:DAYLIGHT
TZOFFSETFROM:+0100
TZOFFSETTO:+0200
TZNAME:CEST
DTSTART:20160327T010000
END:DAYLIGHT
BEGIN:STANDARD
TZOFFSETFROM:+0200
TZOFFSETTO:+0100
TZNAME:CET
DTSTART:20161030T010000
END:STANDARD
BEGIN:DAYLIGHT
TZOFFSETFROM:+0100
TZOFFSETTO:+0200
TZNAME:CEST
DTSTART:20170326T010000
END:DAYLIGHT
BEGIN:STANDARD
TZOFFSETFROM:+0200
TZOFFSETTO:+0100
TZNAME:CET
DTSTART:20171029T010000
END:STANDARD
BEGIN:DAYLIGHT
TZOFFSETFROM:+0100
TZOFFSETTO:+0200
TZNAME:CEST
DTSTART:20180325T010000
END:DAYLIGHT
BEGIN:STANDARD
TZOFFSETFROM:+0200
TZOFFSETTO:+0100
TZNAME:CET
DTSTART:20181028T010000
END:STANDARD
END:VTIMEZONE
BEGIN:VEVENT
DTSTART;TZID=Europe/Prague:20170608T170000
DTEND;TZID=Europe/Prague:20170608T170000
DTSTAMP:20260424T051555
CREATED:20190831T151858Z
LAST-MODIFIED:20190831T151859Z
UID:1397-1496941200-1496941200@www.luxor.cz
SUMMARY:Prezentace knihy Jak přežít (nejen) teroristický útok
DESCRIPTION:Nebezpečí tohoto světa je mnohem větší\, než si myslíme a připouštíme! Terorismus s námi byl\, je a bude. Jen se budou měnit aktéři\, způsoby provedení útoků a cíle\, kterých chtějí teroristé dosáhnout. Otázkou není\, jestli u nás také dojde k teroristickému útoku. Nevíme jen kdy\, kde a jak. \n\nTeroristické útoky – bomba\, střelec\, auto najíždějící do lidí\, únos letadla\nDalší hrozby – blackout\, hrozby na cestách\, nebezepčí na internetu\n\nŠtěstí přeje připraveným… \nNaučte se základní pravidla\, která zvyšují vaši šanci na přežití nejen v případě teroristického útoku. \nEvakuovat\, nebo ne? \nUtíkat\, nebo zalehnout na zem? \nPoslechnout útočníka\, nebo jít proti němu? \nPříručka pro každého od předního bezpečnostního experta. Základní rámec pravidel\, díky nimž zvýšíte šance na přežití nejen v případě teroristického útoku.
URL:https://www.luxor.cz/blog/akce/prezentace-knihy-jak-prezit-nejen-teroristicky-utok--916/
LOCATION:Palác knih Luxor\, Václavské náměstí 820/41\, Praha 1\, 11000\, Česká republika
ORGANIZER;CN="Luxor":MAILTO:info@luxor.cz
END:VEVENT
END:VCALENDAR