BEGIN:VCALENDAR
VERSION:2.0
PRODID:-//Blog knihkupectví Luxor - ECPv6.15.20//NONSGML v1.0//EN
CALSCALE:GREGORIAN
METHOD:PUBLISH
X-WR-CALNAME:Blog knihkupectví Luxor
X-ORIGINAL-URL:https://www.luxor.cz/blog
X-WR-CALDESC:Akce na Blog knihkupectví Luxor
REFRESH-INTERVAL;VALUE=DURATION:PT1H
X-Robots-Tag:noindex
X-PUBLISHED-TTL:PT1H
BEGIN:VTIMEZONE
TZID:Europe/Prague
BEGIN:DAYLIGHT
TZOFFSETFROM:+0100
TZOFFSETTO:+0200
TZNAME:CEST
DTSTART:20160327T010000
END:DAYLIGHT
BEGIN:STANDARD
TZOFFSETFROM:+0200
TZOFFSETTO:+0100
TZNAME:CET
DTSTART:20161030T010000
END:STANDARD
BEGIN:DAYLIGHT
TZOFFSETFROM:+0100
TZOFFSETTO:+0200
TZNAME:CEST
DTSTART:20170326T010000
END:DAYLIGHT
BEGIN:STANDARD
TZOFFSETFROM:+0200
TZOFFSETTO:+0100
TZNAME:CET
DTSTART:20171029T010000
END:STANDARD
BEGIN:DAYLIGHT
TZOFFSETFROM:+0100
TZOFFSETTO:+0200
TZNAME:CEST
DTSTART:20180325T010000
END:DAYLIGHT
BEGIN:STANDARD
TZOFFSETFROM:+0200
TZOFFSETTO:+0100
TZNAME:CET
DTSTART:20181028T010000
END:STANDARD
END:VTIMEZONE
BEGIN:VEVENT
DTSTART;TZID=Europe/Prague:20170607T170000
DTEND;TZID=Europe/Prague:20170607T170000
DTSTAMP:20260424T064643
CREATED:20190831T151851Z
LAST-MODIFIED:20190831T151852Z
UID:1383-1496854800-1496854800@www.luxor.cz
SUMMARY:Křest nového vydání knihy Konec velkých prázdnin
DESCRIPTION:Kniha\, která vznikala jako předloha scénářestejnojmenného televizního seriálu\, patří mezi nejlepší romány zabývající se\nfenoménem emigrace. Její děj se započíná v roce 1983\, kdy v den letního\nslunovratu uprchnou nejrůznějšími cestami ze své vlasti do Rakouska dvě rodiny\na několik jednotlivců\, Čechů i Slováků\, aby hledali štěstí ve vysněném svobodném\nsvětě. Skoro na dosah domova je očekává jiná planeta\, jim cizí\, jako jsou oni\ncizí jí. Projdou táborem pro uprchlíky a čekají pak v jednom z venkovských\npenzionů\, sloužících tomu účelu\, na azyl a víza\, představující klíček nové existenci. Náhlé prázdniny v životě\,\njejichž délku ani výsledek nelze odhadnout\, týdny\, měsíce a někdy i roky\nvynucené nečinnosti\, nutí k sebezpytnému bilancování\, smýkají lidmi mezi\nnadějemi a zoufalstvím. Ze vzpomínek i představ\, ze zážitků tragických i\nkomických vyvstává kaleidoskop obrazů země\, kterou opustili\, i světa\, jemuž se\nvydali.
URL:https://www.luxor.cz/blog/akce/krest-noveho-vydani-knihy-konec-velkych-prazdnin--906/
LOCATION:Palác knih Luxor\, Václavské náměstí 820/41\, Praha 1\, 11000\, Česká republika
ORGANIZER;CN="Luxor":MAILTO:info@luxor.cz
END:VEVENT
END:VCALENDAR