BEGIN:VCALENDAR
VERSION:2.0
PRODID:-//Blog knihkupectví Luxor - ECPv6.15.20//NONSGML v1.0//EN
CALSCALE:GREGORIAN
METHOD:PUBLISH
X-ORIGINAL-URL:https://www.luxor.cz/blog
X-WR-CALDESC:Akce na Blog knihkupectví Luxor
REFRESH-INTERVAL;VALUE=DURATION:PT1H
X-Robots-Tag:noindex
X-PUBLISHED-TTL:PT1H
BEGIN:VTIMEZONE
TZID:Europe/Prague
BEGIN:DAYLIGHT
TZOFFSETFROM:+0100
TZOFFSETTO:+0200
TZNAME:CEST
DTSTART:20160327T010000
END:DAYLIGHT
BEGIN:STANDARD
TZOFFSETFROM:+0200
TZOFFSETTO:+0100
TZNAME:CET
DTSTART:20161030T010000
END:STANDARD
BEGIN:DAYLIGHT
TZOFFSETFROM:+0100
TZOFFSETTO:+0200
TZNAME:CEST
DTSTART:20170326T010000
END:DAYLIGHT
BEGIN:STANDARD
TZOFFSETFROM:+0200
TZOFFSETTO:+0100
TZNAME:CET
DTSTART:20171029T010000
END:STANDARD
BEGIN:DAYLIGHT
TZOFFSETFROM:+0100
TZOFFSETTO:+0200
TZNAME:CEST
DTSTART:20180325T010000
END:DAYLIGHT
BEGIN:STANDARD
TZOFFSETFROM:+0200
TZOFFSETTO:+0100
TZNAME:CET
DTSTART:20181028T010000
END:STANDARD
END:VTIMEZONE
BEGIN:VEVENT
DTSTART;TZID=Europe/Prague:20170605T170000
DTEND;TZID=Europe/Prague:20170605T170000
DTSTAMP:20260424T052843
CREATED:20190831T151847Z
LAST-MODIFIED:20190831T151849Z
UID:1376-1496682000-1496682000@www.luxor.cz
SUMMARY:Prezentace knihy Zlatovlasý Jan
DESCRIPTION:Kniha tematicky a výtvarným zpracováním navazuje na autorčin titul Příběhy stromů (Mladá fronta 2007). Autorka nás po desetileté odmlce opět přivádí do světa stromů – tentokrát společně s hrdinou této knihy\, zlatovlasým Janem. Jednotlivá témata vybraných stromů se splétají do životního příběhu mladého muže\, jehož putování vede cestami i necestami\, skrze neuvěřitelná dobrodružství\, do exotických krajů\, až po zážitky hraničící se smrtí. Náš hrdina se během své pouti postupně seznamuje s životními tématy\, které v té či oné formě přicházejí do života nám všem. Pohádkovým jazykem\, sobě vlastním\, vypráví autorka o Janově hledání smyslu putování: bohatá symbolika stromů zde slouží jako pestrobarevné pozadí Janova dramatického životního příběhu. Magický svět Lenky Ničkové\, pohybující se na pomezí skutečnosti a fantazie\, nám umožňuje prohlédnout si do hloubky dávná témata a rituály\, z nichž některé jsou přítomné v našich životech již jen jako nejasná tušení… A přesto\, nebo právě proto\, jsou tyto skutečnosti nesmazatelně zapsané do našeho vědomí a dožadují se pozornosti
URL:https://www.luxor.cz/blog/akce/prezentace-knihy-zlatovlasy-jan/
LOCATION:Palác knih Luxor\, Václavské náměstí 820/41\, Praha 1\, 11000\, Česká republika
ORGANIZER;CN="Luxor":MAILTO:info@luxor.cz
END:VEVENT
END:VCALENDAR