BEGIN:VCALENDAR
VERSION:2.0
PRODID:-//Blog knihkupectví Luxor - ECPv6.15.20//NONSGML v1.0//EN
CALSCALE:GREGORIAN
METHOD:PUBLISH
X-WR-CALNAME:Blog knihkupectví Luxor
X-ORIGINAL-URL:https://www.luxor.cz/blog
X-WR-CALDESC:Akce na Blog knihkupectví Luxor
REFRESH-INTERVAL;VALUE=DURATION:PT1H
X-Robots-Tag:noindex
X-PUBLISHED-TTL:PT1H
BEGIN:VTIMEZONE
TZID:Europe/Prague
BEGIN:DAYLIGHT
TZOFFSETFROM:+0100
TZOFFSETTO:+0200
TZNAME:CEST
DTSTART:20160327T010000
END:DAYLIGHT
BEGIN:STANDARD
TZOFFSETFROM:+0200
TZOFFSETTO:+0100
TZNAME:CET
DTSTART:20161030T010000
END:STANDARD
BEGIN:DAYLIGHT
TZOFFSETFROM:+0100
TZOFFSETTO:+0200
TZNAME:CEST
DTSTART:20170326T010000
END:DAYLIGHT
BEGIN:STANDARD
TZOFFSETFROM:+0200
TZOFFSETTO:+0100
TZNAME:CET
DTSTART:20171029T010000
END:STANDARD
BEGIN:DAYLIGHT
TZOFFSETFROM:+0100
TZOFFSETTO:+0200
TZNAME:CEST
DTSTART:20180325T010000
END:DAYLIGHT
BEGIN:STANDARD
TZOFFSETFROM:+0200
TZOFFSETTO:+0100
TZNAME:CET
DTSTART:20181028T010000
END:STANDARD
END:VTIMEZONE
BEGIN:VEVENT
DTSTART;TZID=Europe/Prague:20170601T170000
DTEND;TZID=Europe/Prague:20170601T170000
DTSTAMP:20260424T052215
CREATED:20190831T151847Z
LAST-MODIFIED:20190831T151849Z
UID:1375-1496336400-1496336400@www.luxor.cz
SUMMARY:Prezentace knihy Ládi Hrušky
DESCRIPTION:Grilovat s Láďou Hruškou je radost! Připravte si více než 100 dobrot z grilu\, které vás dostanou. Vynikající osvědčené\, kamarády a sousedy vyhledávané dipy a omáčky. Ovoce na špízu z žáru ohně\, kterému neodoláte. Recepty jsou super inspirací k rožnění masa\, zeleniny\, hub\, sýrů\, uzenin\, ryb a mořských plodů. Zkrátka vychytané a bezpečné grilování. A nemáte-li dosud gril\, nevadí. Láďa vám ve výběru poradí.
URL:https://www.luxor.cz/blog/akce/prezentace-knihy-ladi-hrusky--902/
LOCATION:Palác knih Luxor\, Václavské náměstí 820/41\, Praha 1\, 11000\, Česká republika
ORGANIZER;CN="Luxor":MAILTO:info@luxor.cz
END:VEVENT
END:VCALENDAR