BEGIN:VCALENDAR
VERSION:2.0
PRODID:-//Blog knihkupectví Luxor - ECPv6.15.20//NONSGML v1.0//EN
CALSCALE:GREGORIAN
METHOD:PUBLISH
X-ORIGINAL-URL:https://www.luxor.cz/blog
X-WR-CALDESC:Akce na Blog knihkupectví Luxor
REFRESH-INTERVAL;VALUE=DURATION:PT1H
X-Robots-Tag:noindex
X-PUBLISHED-TTL:PT1H
BEGIN:VTIMEZONE
TZID:Europe/Prague
BEGIN:DAYLIGHT
TZOFFSETFROM:+0100
TZOFFSETTO:+0200
TZNAME:CEST
DTSTART:20160327T010000
END:DAYLIGHT
BEGIN:STANDARD
TZOFFSETFROM:+0200
TZOFFSETTO:+0100
TZNAME:CET
DTSTART:20161030T010000
END:STANDARD
BEGIN:DAYLIGHT
TZOFFSETFROM:+0100
TZOFFSETTO:+0200
TZNAME:CEST
DTSTART:20170326T010000
END:DAYLIGHT
BEGIN:STANDARD
TZOFFSETFROM:+0200
TZOFFSETTO:+0100
TZNAME:CET
DTSTART:20171029T010000
END:STANDARD
BEGIN:DAYLIGHT
TZOFFSETFROM:+0100
TZOFFSETTO:+0200
TZNAME:CEST
DTSTART:20180325T010000
END:DAYLIGHT
BEGIN:STANDARD
TZOFFSETFROM:+0200
TZOFFSETTO:+0100
TZNAME:CET
DTSTART:20181028T010000
END:STANDARD
END:VTIMEZONE
BEGIN:VEVENT
DTSTART;TZID=Europe/Prague:20170509T170000
DTEND;TZID=Europe/Prague:20170509T170000
DTSTAMP:20260424T064738
CREATED:20190831T151844Z
LAST-MODIFIED:20190831T151845Z
UID:1364-1494349200-1494349200@www.luxor.cz
SUMMARY:Křest knihy herečky Zdenky Procházkové
DESCRIPTION:Česká herečka\, která v minulém roce oslavila životní jubileum\, se zamýšlí nad svým zajímavým životem\, nad tím\, jak se v jeho průběhu změnil svět\, přístup k lásce\, k přátelství\, jak se změnily vztahy mezi ženami a muži. Kniha je unikátní tím\, že v ní porovnává své zkušenosti devadesátiletá herečka s pohledem na svět své mladé\, pětadvacetileté přítelkyně.
URL:https://www.luxor.cz/blog/akce/krest-knihy-herecky-zdenky-prochazkove--896/
LOCATION:Palác knih Luxor\, Václavské náměstí 820/41\, Praha 1\, 11000\, Česká republika
ORGANIZER;CN="Luxor":MAILTO:info@luxor.cz
END:VEVENT
END:VCALENDAR