BEGIN:VCALENDAR
VERSION:2.0
PRODID:-//Blog knihkupectví Luxor - ECPv6.15.20//NONSGML v1.0//EN
CALSCALE:GREGORIAN
METHOD:PUBLISH
X-ORIGINAL-URL:https://www.luxor.cz/blog
X-WR-CALDESC:Akce na Blog knihkupectví Luxor
REFRESH-INTERVAL;VALUE=DURATION:PT1H
X-Robots-Tag:noindex
X-PUBLISHED-TTL:PT1H
BEGIN:VTIMEZONE
TZID:Europe/Prague
BEGIN:DAYLIGHT
TZOFFSETFROM:+0100
TZOFFSETTO:+0200
TZNAME:CEST
DTSTART:20160327T010000
END:DAYLIGHT
BEGIN:STANDARD
TZOFFSETFROM:+0200
TZOFFSETTO:+0100
TZNAME:CET
DTSTART:20161030T010000
END:STANDARD
BEGIN:DAYLIGHT
TZOFFSETFROM:+0100
TZOFFSETTO:+0200
TZNAME:CEST
DTSTART:20170326T010000
END:DAYLIGHT
BEGIN:STANDARD
TZOFFSETFROM:+0200
TZOFFSETTO:+0100
TZNAME:CET
DTSTART:20171029T010000
END:STANDARD
BEGIN:DAYLIGHT
TZOFFSETFROM:+0100
TZOFFSETTO:+0200
TZNAME:CEST
DTSTART:20180325T010000
END:DAYLIGHT
BEGIN:STANDARD
TZOFFSETFROM:+0200
TZOFFSETTO:+0100
TZNAME:CET
DTSTART:20181028T010000
END:STANDARD
END:VTIMEZONE
BEGIN:VEVENT
DTSTART;TZID=Europe/Prague:20170418T170000
DTEND;TZID=Europe/Prague:20170418T170000
DTSTAMP:20260424T080709
CREATED:20190831T151833Z
LAST-MODIFIED:20190831T151834Z
UID:1336-1492534800-1492534800@www.luxor.cz
SUMMARY:Křest knihy Podsvětí
DESCRIPTION:V pražském metru se děje něco zvláštního. Výpadky světel\, podivné oltáře v tunelech\, ozvěny a stihomamy jsou však jen předzvěstí blížící se\napokalypsy. Vedoucí techniků\, starší muž přezdívaný Haďák\, mladá úspěšná\n farmaceutička Nina\, osudově přitahovaná metrem\, a člen pořádkové\npolicie pracující v metru nazývaný Kerber spolu na první pohled nemají\nnic společného. Jejich vazby jsou však daleko hlubší a osud nasměroval\njejich kroky do vražedné temnoty tunelů – za tajemnými Stíny i jejich\nnohsledy\, kteří se nezastaví před ničím.Mysteriózní thriller Michala\nŠefary přináší zcela nový\, neotřelý pohled na pražské metro\, a po jeho\npřečtení už vám žádná ze stanic ani cesta tunely nebudou připadat stejně\n fádní jako předtím.
URL:https://www.luxor.cz/blog/akce/krest-knihy-podsveti/
LOCATION:Palác knih Luxor\, Václavské náměstí 820/41\, Praha 1\, 11000\, Česká republika
ORGANIZER;CN="Luxor":MAILTO:info@luxor.cz
END:VEVENT
END:VCALENDAR