BEGIN:VCALENDAR
VERSION:2.0
PRODID:-//Blog knihkupectví Luxor - ECPv6.15.20//NONSGML v1.0//EN
CALSCALE:GREGORIAN
METHOD:PUBLISH
X-WR-CALNAME:Blog knihkupectví Luxor
X-ORIGINAL-URL:https://www.luxor.cz/blog
X-WR-CALDESC:Akce na Blog knihkupectví Luxor
REFRESH-INTERVAL;VALUE=DURATION:PT1H
X-Robots-Tag:noindex
X-PUBLISHED-TTL:PT1H
BEGIN:VTIMEZONE
TZID:Europe/Prague
BEGIN:DAYLIGHT
TZOFFSETFROM:+0100
TZOFFSETTO:+0200
TZNAME:CEST
DTSTART:20160327T010000
END:DAYLIGHT
BEGIN:STANDARD
TZOFFSETFROM:+0200
TZOFFSETTO:+0100
TZNAME:CET
DTSTART:20161030T010000
END:STANDARD
BEGIN:DAYLIGHT
TZOFFSETFROM:+0100
TZOFFSETTO:+0200
TZNAME:CEST
DTSTART:20170326T010000
END:DAYLIGHT
BEGIN:STANDARD
TZOFFSETFROM:+0200
TZOFFSETTO:+0100
TZNAME:CET
DTSTART:20171029T010000
END:STANDARD
BEGIN:DAYLIGHT
TZOFFSETFROM:+0100
TZOFFSETTO:+0200
TZNAME:CEST
DTSTART:20180325T010000
END:DAYLIGHT
BEGIN:STANDARD
TZOFFSETFROM:+0200
TZOFFSETTO:+0100
TZNAME:CET
DTSTART:20181028T010000
END:STANDARD
END:VTIMEZONE
BEGIN:VEVENT
DTSTART;TZID=Europe/Prague:20170330T160000
DTEND;TZID=Europe/Prague:20170330T160000
DTSTAMP:20260424T080645
CREATED:20190831T151829Z
LAST-MODIFIED:20190831T151831Z
UID:1322-1490889600-1490889600@www.luxor.cz
SUMMARY:Křest knihy vycházející švédské hvězdy
DESCRIPTION:Stockholm – Přísně tajné je napínavý příběh o honbě za uznáním a láskou v současném Stockholmu\, který se okamžitě po svém vydání stal\nbestsellerem ve Švédsku\, Německu\, Itálii a dalších zemích. Odehrává se v\n prostředí luxusních klubů\, v atmosféře upadající slávy prestižních\nmagazínů a klade čtenářům otázku: Komu vlastně můžeme věřit\, hrajeme-li\nhru\, ve které neplatí žádná pravidla?
URL:https://www.luxor.cz/blog/akce/krest-knihy-vychazejici-svedske-hvezdy--874/
LOCATION:Palác knih Luxor\, Václavské náměstí 820/41\, Praha 1\, 11000\, Česká republika
ORGANIZER;CN="Luxor":MAILTO:info@luxor.cz
END:VEVENT
END:VCALENDAR