BEGIN:VCALENDAR
VERSION:2.0
PRODID:-//Blog knihkupectví Luxor - ECPv6.15.20//NONSGML v1.0//EN
CALSCALE:GREGORIAN
METHOD:PUBLISH
X-ORIGINAL-URL:https://www.luxor.cz/blog
X-WR-CALDESC:Akce na Blog knihkupectví Luxor
REFRESH-INTERVAL;VALUE=DURATION:PT1H
X-Robots-Tag:noindex
X-PUBLISHED-TTL:PT1H
BEGIN:VTIMEZONE
TZID:Europe/Prague
BEGIN:DAYLIGHT
TZOFFSETFROM:+0100
TZOFFSETTO:+0200
TZNAME:CEST
DTSTART:20160327T010000
END:DAYLIGHT
BEGIN:STANDARD
TZOFFSETFROM:+0200
TZOFFSETTO:+0100
TZNAME:CET
DTSTART:20161030T010000
END:STANDARD
BEGIN:DAYLIGHT
TZOFFSETFROM:+0100
TZOFFSETTO:+0200
TZNAME:CEST
DTSTART:20170326T010000
END:DAYLIGHT
BEGIN:STANDARD
TZOFFSETFROM:+0200
TZOFFSETTO:+0100
TZNAME:CET
DTSTART:20171029T010000
END:STANDARD
BEGIN:DAYLIGHT
TZOFFSETFROM:+0100
TZOFFSETTO:+0200
TZNAME:CEST
DTSTART:20180325T010000
END:DAYLIGHT
BEGIN:STANDARD
TZOFFSETFROM:+0200
TZOFFSETTO:+0100
TZNAME:CET
DTSTART:20181028T010000
END:STANDARD
END:VTIMEZONE
BEGIN:VEVENT
DTSTART;TZID=Europe/Prague:20170329T170000
DTEND;TZID=Europe/Prague:20170329T170000
DTSTAMP:20260424T080818
CREATED:20190831T151833Z
LAST-MODIFIED:20190831T151834Z
UID:1332-1490806800-1490806800@www.luxor.cz
SUMMARY:Prezentace knihy S úsměvem
DESCRIPTION:Po pravdě řečeno malíř Born není můj\, ani váš\, ale svůj. I když se jeho výtvarný jazyk a styl v průběhu let měnily\, umělecky byl vždycky svůj.\nTím přivlastňovacím slůvkem můj jsem myslel naši spolupráci. Měl jsem\nštěstí\, že ilustroval moji první knížku pro děti\, Aprílovou školu\, a to\nbyl už dávno slavný po celém světě. V roce 1977 získal titul\nKarikaturista roku a jediný světadíl\, kde nevystavoval\, je Antarktida.\nTěch knížek\, které mi ilustroval\, je celkem sedmnáct: satiry a epigramy\,\n básničky pro děti\, divadelní hru a v posledních letech několik tlustých\n svazků pohádek. Vybral jsem z nich hromádku ukázek a složil z nich\ntuhle knížečku – jako poděkování excelentnímu malíři a svému\ndlouholetému učiteli humoru\, který nás nedávno opustil\, a přece s námi\nzůstává – svými obrazy\, filmy\, ilustracemi\, svým originálním pohledem na\n svět lidí. Když o tom přemýšlím\, Adolf Born je přece jen i svůj\, i můj\,\n i váš. \n				JIŘÍ ŽÁČEK
URL:https://www.luxor.cz/blog/akce/prezentace-knihy-s-usmevem/
LOCATION:Palác knih Luxor\, Václavské náměstí 820/41\, Praha 1\, 11000\, Česká republika
ORGANIZER;CN="Luxor":MAILTO:info@luxor.cz
END:VEVENT
END:VCALENDAR