BEGIN:VCALENDAR
VERSION:2.0
PRODID:-//Blog knihkupectví Luxor - ECPv6.15.20//NONSGML v1.0//EN
CALSCALE:GREGORIAN
METHOD:PUBLISH
X-ORIGINAL-URL:https://www.luxor.cz/blog
X-WR-CALDESC:Akce na Blog knihkupectví Luxor
REFRESH-INTERVAL;VALUE=DURATION:PT1H
X-Robots-Tag:noindex
X-PUBLISHED-TTL:PT1H
BEGIN:VTIMEZONE
TZID:Europe/Prague
BEGIN:DAYLIGHT
TZOFFSETFROM:+0100
TZOFFSETTO:+0200
TZNAME:CEST
DTSTART:20160327T010000
END:DAYLIGHT
BEGIN:STANDARD
TZOFFSETFROM:+0200
TZOFFSETTO:+0100
TZNAME:CET
DTSTART:20161030T010000
END:STANDARD
BEGIN:DAYLIGHT
TZOFFSETFROM:+0100
TZOFFSETTO:+0200
TZNAME:CEST
DTSTART:20170326T010000
END:DAYLIGHT
BEGIN:STANDARD
TZOFFSETFROM:+0200
TZOFFSETTO:+0100
TZNAME:CET
DTSTART:20171029T010000
END:STANDARD
BEGIN:DAYLIGHT
TZOFFSETFROM:+0100
TZOFFSETTO:+0200
TZNAME:CEST
DTSTART:20180325T010000
END:DAYLIGHT
BEGIN:STANDARD
TZOFFSETFROM:+0200
TZOFFSETTO:+0100
TZNAME:CET
DTSTART:20181028T010000
END:STANDARD
END:VTIMEZONE
BEGIN:VEVENT
DTSTART;TZID=Europe/Prague:20170322T160000
DTEND;TZID=Europe/Prague:20170322T160000
DTSTAMP:20260424T095140
CREATED:20190831T151827Z
LAST-MODIFIED:20190831T151827Z
UID:1320-1490198400-1490198400@www.luxor.cz
SUMMARY:Křest knižní podoby úspěšného blogu
DESCRIPTION:Otevřená\, upřímná a schopná nemilosrdně pojmenovat všechny stavy\, které provázejí léčbu rakoviny. Právě taková je zpověď blogerky Terezy\nSchillerové\, která po celý rok na svém blogu zaznamenávala své zážitky z\n boje s touto nemocí. Hodiny čekání na vyšetření\, na výsledky\, na\nchemoterapie…  Naděje\, deprese\, bezvýchodnost\, radost z každého\nzlepšení… Život s rakovinou je životem doslova na emocionální houpačce a\n autorka se nestydí přiznat\, že pod vlivem nemoci často reagovala\nnepřiměřeně\, sobecky a zaznamenává\, jakým způsobem se její nemoc\nprojevovala na vztahu s manželem\, se synem. \nDeník raka je strhující zpověď ženy\, která svůj boj se zákeřnou nemocí\,\njež jí byla diagnostikována v pouhých pětatřiceti letech\, vyhrála. Ale v\n každé bitvě\, i té vítězné\, vždycky něco ztratíte.
URL:https://www.luxor.cz/blog/akce/krest-knizni-podoby-uspesneho-blogu--872/
LOCATION:Palác knih Luxor\, Václavské náměstí 820/41\, Praha 1\, 11000\, Česká republika
ORGANIZER;CN="Luxor":MAILTO:info@luxor.cz
END:VEVENT
END:VCALENDAR