BEGIN:VCALENDAR
VERSION:2.0
PRODID:-//Blog knihkupectví Luxor - ECPv6.15.20//NONSGML v1.0//EN
CALSCALE:GREGORIAN
METHOD:PUBLISH
X-WR-CALNAME:Blog knihkupectví Luxor
X-ORIGINAL-URL:https://www.luxor.cz/blog
X-WR-CALDESC:Akce na Blog knihkupectví Luxor
REFRESH-INTERVAL;VALUE=DURATION:PT1H
X-Robots-Tag:noindex
X-PUBLISHED-TTL:PT1H
BEGIN:VTIMEZONE
TZID:Europe/Prague
BEGIN:DAYLIGHT
TZOFFSETFROM:+0100
TZOFFSETTO:+0200
TZNAME:CEST
DTSTART:20160327T010000
END:DAYLIGHT
BEGIN:STANDARD
TZOFFSETFROM:+0200
TZOFFSETTO:+0100
TZNAME:CET
DTSTART:20161030T010000
END:STANDARD
BEGIN:DAYLIGHT
TZOFFSETFROM:+0100
TZOFFSETTO:+0200
TZNAME:CEST
DTSTART:20170326T010000
END:DAYLIGHT
BEGIN:STANDARD
TZOFFSETFROM:+0200
TZOFFSETTO:+0100
TZNAME:CET
DTSTART:20171029T010000
END:STANDARD
BEGIN:DAYLIGHT
TZOFFSETFROM:+0100
TZOFFSETTO:+0200
TZNAME:CEST
DTSTART:20180325T010000
END:DAYLIGHT
BEGIN:STANDARD
TZOFFSETFROM:+0200
TZOFFSETTO:+0100
TZNAME:CET
DTSTART:20181028T010000
END:STANDARD
END:VTIMEZONE
BEGIN:VEVENT
DTSTART;TZID=Europe/Prague:20170321T120600
DTEND;TZID=Europe/Prague:20170321T120600
DTSTAMP:20260424T095024
CREATED:20190831T151827Z
LAST-MODIFIED:20190831T151827Z
UID:1317-1490097960-1490097960@www.luxor.cz
SUMMARY:Slevové vouchery k nákupu nad 399 Kč
DESCRIPTION:Ve všech našich knihkupectvích dostanete od 21. února do 21. března 2017 (nebo do vydání zásob) sadu slevových voucherů k nákupu nad 399 Kč. Ušetřit s námi můžete v Costa Coffee (1+1 zdarma)\, Marionnaud (40% sleva do parfumérií a 400 Kč online sleva)\, při nákupu vstupenek na Jatka 78 (20% sleva)\, na vybraných hrách Presco Group (25% sleva) a některých puzzle Dinotoys (1+1 zdarma). Akce platí v našich kamenných prodejnách a při osobním odběru zdarma v e-shopu (je nutné vyzvednout zboží v době trvání akce).
URL:https://www.luxor.cz/blog/akce/slevove-vouchery-k-nakupu-nad-399-kc--869/
ORGANIZER;CN="Luxor":MAILTO:info@luxor.cz
END:VEVENT
END:VCALENDAR