BEGIN:VCALENDAR
VERSION:2.0
PRODID:-//Blog knihkupectví Luxor - ECPv6.15.20//NONSGML v1.0//EN
CALSCALE:GREGORIAN
METHOD:PUBLISH
X-ORIGINAL-URL:https://www.luxor.cz/blog
X-WR-CALDESC:Akce na Blog knihkupectví Luxor
REFRESH-INTERVAL;VALUE=DURATION:PT1H
X-Robots-Tag:noindex
X-PUBLISHED-TTL:PT1H
BEGIN:VTIMEZONE
TZID:Europe/Prague
BEGIN:DAYLIGHT
TZOFFSETFROM:+0100
TZOFFSETTO:+0200
TZNAME:CEST
DTSTART:20160327T010000
END:DAYLIGHT
BEGIN:STANDARD
TZOFFSETFROM:+0200
TZOFFSETTO:+0100
TZNAME:CET
DTSTART:20161030T010000
END:STANDARD
BEGIN:DAYLIGHT
TZOFFSETFROM:+0100
TZOFFSETTO:+0200
TZNAME:CEST
DTSTART:20170326T010000
END:DAYLIGHT
BEGIN:STANDARD
TZOFFSETFROM:+0200
TZOFFSETTO:+0100
TZNAME:CET
DTSTART:20171029T010000
END:STANDARD
BEGIN:DAYLIGHT
TZOFFSETFROM:+0100
TZOFFSETTO:+0200
TZNAME:CEST
DTSTART:20180325T010000
END:DAYLIGHT
BEGIN:STANDARD
TZOFFSETFROM:+0200
TZOFFSETTO:+0100
TZNAME:CET
DTSTART:20181028T010000
END:STANDARD
END:VTIMEZONE
BEGIN:VEVENT
DTSTART;TZID=Europe/Prague:20170316T170000
DTEND;TZID=Europe/Prague:20170316T170000
DTSTAMP:20260424T095140
CREATED:20190831T151827Z
LAST-MODIFIED:20190831T151827Z
UID:1319-1489683600-1489683600@www.luxor.cz
SUMMARY:Prezentace knihy známého maratonce
DESCRIPTION:René Kujan byl ještě před deseti lety jedním z tisíců rekreačních běžců. Pak se ale ocitl na sedadle spolujezdce v autě\, které se střetlo s\nprotijedoucím vozidlem a všechno se změnilo. Od lékařky si vyslechl\nmrazivý ortel: „Nikdy už běhat nebudete.“ Navzdory všem prognózám po\ndevíti měsících zdolal maraton. Od té doby běhá každý den\, někdy i 32\nmaratonů za měsíc. Na lidi\, kteří takové štěstí jako on neměli a zůstali\n na vozíku\, myslí pořád – věnuje se charitativním běhům v jejich\nprospěch.Tato kniha popisuje Reného návrat do běžeckého života a\ndosažení světového prvenství při oběhnutí Islandu\, kdy ho uprostřed\npodzimního marastu doprovázela jedna statečná žena a dvouměsíční syn.
URL:https://www.luxor.cz/blog/akce/prezentace-knihy-znameho-maratonce--871/
LOCATION:Palác knih Luxor\, Václavské náměstí 820/41\, Praha 1\, 11000\, Česká republika
ORGANIZER;CN="Luxor":MAILTO:info@luxor.cz
END:VEVENT
END:VCALENDAR