BEGIN:VCALENDAR
VERSION:2.0
PRODID:-//Blog knihkupectví Luxor - ECPv6.15.20//NONSGML v1.0//EN
CALSCALE:GREGORIAN
METHOD:PUBLISH
X-ORIGINAL-URL:https://www.luxor.cz/blog
X-WR-CALDESC:Akce na Blog knihkupectví Luxor
REFRESH-INTERVAL;VALUE=DURATION:PT1H
X-Robots-Tag:noindex
X-PUBLISHED-TTL:PT1H
BEGIN:VTIMEZONE
TZID:Europe/Prague
BEGIN:DAYLIGHT
TZOFFSETFROM:+0100
TZOFFSETTO:+0200
TZNAME:CEST
DTSTART:20160327T010000
END:DAYLIGHT
BEGIN:STANDARD
TZOFFSETFROM:+0200
TZOFFSETTO:+0100
TZNAME:CET
DTSTART:20161030T010000
END:STANDARD
BEGIN:DAYLIGHT
TZOFFSETFROM:+0100
TZOFFSETTO:+0200
TZNAME:CEST
DTSTART:20170326T010000
END:DAYLIGHT
BEGIN:STANDARD
TZOFFSETFROM:+0200
TZOFFSETTO:+0100
TZNAME:CET
DTSTART:20171029T010000
END:STANDARD
BEGIN:DAYLIGHT
TZOFFSETFROM:+0100
TZOFFSETTO:+0200
TZNAME:CEST
DTSTART:20180325T010000
END:DAYLIGHT
BEGIN:STANDARD
TZOFFSETFROM:+0200
TZOFFSETTO:+0100
TZNAME:CET
DTSTART:20181028T010000
END:STANDARD
END:VTIMEZONE
BEGIN:VEVENT
DTSTART;TZID=Europe/Prague:20170307T163000
DTEND;TZID=Europe/Prague:20170307T163000
DTSTAMP:20260424T095141
CREATED:20190831T151827Z
LAST-MODIFIED:20190831T151827Z
UID:1318-1488904200-1488904200@www.luxor.cz
SUMMARY:Uvedení knihy Jana Rejžka
DESCRIPTION:V knize najdou čtenáři vydatnou dávku více než tří set sloupků ze let 2010 až 2015\, publikovaných v Lidových novinách. Již třetí soubor\nsebraných „posledních slov“ nemilosrdného glosátora a „zuřivce“ Jana\nRejžka představuje svého autora nejen jako neurvalce a nepřítele\nstředního proudu populární hudby a některých jeho zpěvaček\, jak píše v\npředmluvě Jiří Peňás\, ale i jako člověka\, který stále něco hledá\, je\nněčím zaujatý\, něco pozorně sleduje\, něčím se zabývá\, ba je tím i\nposedlý.
URL:https://www.luxor.cz/blog/akce/uvedeni-knihy-jana-rejzka--870/
LOCATION:Palác knih Luxor\, Václavské náměstí 820/41\, Praha 1\, 11000\, Česká republika
ORGANIZER;CN="Luxor":MAILTO:info@luxor.cz
END:VEVENT
END:VCALENDAR