BEGIN:VCALENDAR
VERSION:2.0
PRODID:-//Blog knihkupectví Luxor - ECPv6.15.20//NONSGML v1.0//EN
CALSCALE:GREGORIAN
METHOD:PUBLISH
X-ORIGINAL-URL:https://www.luxor.cz/blog
X-WR-CALDESC:Akce na Blog knihkupectví Luxor
REFRESH-INTERVAL;VALUE=DURATION:PT1H
X-Robots-Tag:noindex
X-PUBLISHED-TTL:PT1H
BEGIN:VTIMEZONE
TZID:Europe/Prague
BEGIN:DAYLIGHT
TZOFFSETFROM:+0100
TZOFFSETTO:+0200
TZNAME:CEST
DTSTART:20160327T010000
END:DAYLIGHT
BEGIN:STANDARD
TZOFFSETFROM:+0200
TZOFFSETTO:+0100
TZNAME:CET
DTSTART:20161030T010000
END:STANDARD
BEGIN:DAYLIGHT
TZOFFSETFROM:+0100
TZOFFSETTO:+0200
TZNAME:CEST
DTSTART:20170326T010000
END:DAYLIGHT
BEGIN:STANDARD
TZOFFSETFROM:+0200
TZOFFSETTO:+0100
TZNAME:CET
DTSTART:20171029T010000
END:STANDARD
BEGIN:DAYLIGHT
TZOFFSETFROM:+0100
TZOFFSETTO:+0200
TZNAME:CEST
DTSTART:20180325T010000
END:DAYLIGHT
BEGIN:STANDARD
TZOFFSETFROM:+0200
TZOFFSETTO:+0100
TZNAME:CET
DTSTART:20181028T010000
END:STANDARD
END:VTIMEZONE
BEGIN:VEVENT
DTSTART;TZID=Europe/Prague:20170120T160000
DTEND;TZID=Europe/Prague:20170120T160000
DTSTAMP:20260424T124114
CREATED:20190831T151821Z
LAST-MODIFIED:20190831T151821Z
UID:1306-1484928000-1484928000@www.luxor.cz
SUMMARY:Křest knihy uznávaného filmaře a autora
DESCRIPTION:Epická sága o prvovýstupu na nejnebezpečnější horu planety. Podmanivý příběh nejvražednější světové hory. K2 je s 8611 metry téměř o dvě stě\npadesát metrů nižší než Mount Everest\, ale co se obtížnosti výstupu\ntýče\, s přehledem svého slavnějšího soka předčí. Zabít se na ní můžete\nsnadno jak při výstupu\, tak při cestě dolů. Mike Conefrey přináší v této\n poutavé knize barvitý popis prvních pokusů o dosažení vrcholu i\nfascinující vhled do složitého dědictví jejího prvovýstupu.
URL:https://www.luxor.cz/blog/akce/krest-knihy-uznavaneho-filmare-a-autora--858/
LOCATION:Palác knih Luxor\, Václavské náměstí 820/41\, Praha 1\, 11000\, Česká republika
ORGANIZER;CN="Luxor":MAILTO:info@luxor.cz
END:VEVENT
END:VCALENDAR