BEGIN:VCALENDAR
VERSION:2.0
PRODID:-//Blog knihkupectví Luxor - ECPv6.15.20//NONSGML v1.0//EN
CALSCALE:GREGORIAN
METHOD:PUBLISH
X-ORIGINAL-URL:https://www.luxor.cz/blog
X-WR-CALDESC:Akce na Blog knihkupectví Luxor
REFRESH-INTERVAL;VALUE=DURATION:PT1H
X-Robots-Tag:noindex
X-PUBLISHED-TTL:PT1H
BEGIN:VTIMEZONE
TZID:Europe/Prague
BEGIN:DAYLIGHT
TZOFFSETFROM:+0100
TZOFFSETTO:+0200
TZNAME:CEST
DTSTART:20160327T010000
END:DAYLIGHT
BEGIN:STANDARD
TZOFFSETFROM:+0200
TZOFFSETTO:+0100
TZNAME:CET
DTSTART:20161030T010000
END:STANDARD
BEGIN:DAYLIGHT
TZOFFSETFROM:+0100
TZOFFSETTO:+0200
TZNAME:CEST
DTSTART:20170326T010000
END:DAYLIGHT
BEGIN:STANDARD
TZOFFSETFROM:+0200
TZOFFSETTO:+0100
TZNAME:CET
DTSTART:20171029T010000
END:STANDARD
BEGIN:DAYLIGHT
TZOFFSETFROM:+0100
TZOFFSETTO:+0200
TZNAME:CEST
DTSTART:20180325T010000
END:DAYLIGHT
BEGIN:STANDARD
TZOFFSETFROM:+0200
TZOFFSETTO:+0100
TZNAME:CET
DTSTART:20181028T010000
END:STANDARD
END:VTIMEZONE
BEGIN:VEVENT
DTSTART;TZID=Europe/Prague:20170117T112000
DTEND;TZID=Europe/Prague:20170117T112000
DTSTAMP:20260424T124717
CREATED:20190831T151821Z
LAST-MODIFIED:20190831T151821Z
UID:1302-1484652000-1484652000@www.luxor.cz
SUMMARY:Neplaťte DPH za knihy! Sleva až 20 %
DESCRIPTION:Od 27. prosince 2016 do 17. ledna 2017 vám zlevníme všechny knihy v nákupu o 10 %. Slevu lze kombinovat s dalšími slevami (např. ISIC\, online sleva s osobním odběrem apod.)\, maximálně však do výše 20 %. Akce platí pouze v kamenných knihkupectvích a při osobním odběru objednávky v e-shopu (pozor\, je třeba vyzvedávat knihu v době platnosti akce\, pokud si knihy objednáte tak\, že budou připravené až 18. ledna a dál\, sleva se na ně již nevztahuje)\, neplatí na pokladnách Knižního klubu. 
URL:https://www.luxor.cz/blog/akce/neplatte-dph-za-knihy-sleva-az-20--854/
ORGANIZER;CN="Luxor":MAILTO:info@luxor.cz
END:VEVENT
END:VCALENDAR