BEGIN:VCALENDAR
VERSION:2.0
PRODID:-//Blog knihkupectví Luxor - ECPv6.15.20//NONSGML v1.0//EN
CALSCALE:GREGORIAN
METHOD:PUBLISH
X-ORIGINAL-URL:https://www.luxor.cz/blog
X-WR-CALDESC:Akce na Blog knihkupectví Luxor
REFRESH-INTERVAL;VALUE=DURATION:PT1H
X-Robots-Tag:noindex
X-PUBLISHED-TTL:PT1H
BEGIN:VTIMEZONE
TZID:Europe/Prague
BEGIN:DAYLIGHT
TZOFFSETFROM:+0100
TZOFFSETTO:+0200
TZNAME:CEST
DTSTART:20160327T010000
END:DAYLIGHT
BEGIN:STANDARD
TZOFFSETFROM:+0200
TZOFFSETTO:+0100
TZNAME:CET
DTSTART:20161030T010000
END:STANDARD
BEGIN:DAYLIGHT
TZOFFSETFROM:+0100
TZOFFSETTO:+0200
TZNAME:CEST
DTSTART:20170326T010000
END:DAYLIGHT
BEGIN:STANDARD
TZOFFSETFROM:+0200
TZOFFSETTO:+0100
TZNAME:CET
DTSTART:20171029T010000
END:STANDARD
BEGIN:DAYLIGHT
TZOFFSETFROM:+0100
TZOFFSETTO:+0200
TZNAME:CEST
DTSTART:20180325T010000
END:DAYLIGHT
BEGIN:STANDARD
TZOFFSETFROM:+0200
TZOFFSETTO:+0100
TZNAME:CET
DTSTART:20181028T010000
END:STANDARD
END:VTIMEZONE
BEGIN:VEVENT
DTSTART;TZID=Europe/Prague:20170111T170000
DTEND;TZID=Europe/Prague:20170111T170000
DTSTAMP:20260424T124717
CREATED:20190831T151821Z
LAST-MODIFIED:20190831T151821Z
UID:1303-1484154000-1484154000@www.luxor.cz
SUMMARY:Křest nového motorkářského průvodce
DESCRIPTION:Po velkém úspěchu Motorkářského průvodce po Čechách přichází nadšený motorkář s novým průvodcem\, tentokrát po Moravě. Svým osobitým stylem\nzpracoval nejkrásnější trasy\, doplnil mnoha fotografiemi a provede tak\nnejen motocyklisty\, ale i automobilisty a ostatní\, kteří rádi cestují a\npoznávají nové\, křížem krážem po moravské zemi\, po jejích památkách\,\nzajímavostech i dobrých hospůdkách.
URL:https://www.luxor.cz/blog/akce/krest-noveho-motorkarskeho-pruvodce--855/
LOCATION:Palác knih Luxor\, Václavské náměstí 820/41\, Praha 1\, 11000\, Česká republika
ORGANIZER;CN="Luxor":MAILTO:info@luxor.cz
END:VEVENT
END:VCALENDAR