BEGIN:VCALENDAR
VERSION:2.0
PRODID:-//Blog knihkupectví Luxor - ECPv6.15.20//NONSGML v1.0//EN
CALSCALE:GREGORIAN
METHOD:PUBLISH
X-ORIGINAL-URL:https://www.luxor.cz/blog
X-WR-CALDESC:Akce na Blog knihkupectví Luxor
REFRESH-INTERVAL;VALUE=DURATION:PT1H
X-Robots-Tag:noindex
X-PUBLISHED-TTL:PT1H
BEGIN:VTIMEZONE
TZID:Europe/Prague
BEGIN:DAYLIGHT
TZOFFSETFROM:+0100
TZOFFSETTO:+0200
TZNAME:CEST
DTSTART:20150329T010000
END:DAYLIGHT
BEGIN:STANDARD
TZOFFSETFROM:+0200
TZOFFSETTO:+0100
TZNAME:CET
DTSTART:20151025T010000
END:STANDARD
BEGIN:DAYLIGHT
TZOFFSETFROM:+0100
TZOFFSETTO:+0200
TZNAME:CEST
DTSTART:20160327T010000
END:DAYLIGHT
BEGIN:STANDARD
TZOFFSETFROM:+0200
TZOFFSETTO:+0100
TZNAME:CET
DTSTART:20161030T010000
END:STANDARD
BEGIN:DAYLIGHT
TZOFFSETFROM:+0100
TZOFFSETTO:+0200
TZNAME:CEST
DTSTART:20170326T010000
END:DAYLIGHT
BEGIN:STANDARD
TZOFFSETFROM:+0200
TZOFFSETTO:+0100
TZNAME:CET
DTSTART:20171029T010000
END:STANDARD
END:VTIMEZONE
BEGIN:VEVENT
DTSTART;TZID=Europe/Prague:20161212T170000
DTEND;TZID=Europe/Prague:20161212T170000
DTSTAMP:20260424T141105
CREATED:20190831T151819Z
LAST-MODIFIED:20190831T151819Z
UID:1300-1481562000-1481562000@www.luxor.cz
SUMMARY:Prezentace knihy Ivana Langera
DESCRIPTION:Kniha Ivana Langera V síti je promyšlenou mozaikou postřehů a provokativních\nšlehů\, jimiž bývalý ministr vnitra a\nněkdejší místopředseda ODS komentuje veřejné dění. Originální sbírka\nfacebookových statusů a hlášek se věnuje domácí politice\, předbrexitovému vření v EU či postojům\nstátníků k migrační krizi. Kritickými poznámkami Ivan Langer častuje i\nněkterá tuzemská média a jejich vlastníky. Text je proložen řadou odkazů na\nnovinové články a zpravodajské spoty\, které publikaci oživujícím způsobem\nusazují do časového a věcného kontextu. Svého druhu překvapením je\nautorovo veřejné přiznání k výtvarným\nsklonům – publikaci vybavil vlastními kresbami. Kniha V síti je určena lidem\, kteří na veřejné dění rádi\nnahlížejí z různých úhlů. 
URL:https://www.luxor.cz/blog/akce/prezentace-knihy-ivana-lagera--852/
LOCATION:Palác knih Luxor\, Václavské náměstí 820/41\, Praha 1\, 11000\, Česká republika
ORGANIZER;CN="Luxor":MAILTO:info@luxor.cz
END:VEVENT
END:VCALENDAR